BEGIN:VCALENDAR
VERSION:2.0
PRODID:-//ChamberMaster//Event Calendar 2.0//EN
METHOD:PUBLISH
X-PUBLISHED-TTL:P3D
REFRESH-INTERVAL:P3D
CALSCALE:GREGORIAN
BEGIN:VEVENT
DTSTART:20141203T173000Z
DTEND:20141203T190000Z
X-MICROSOFT-CDO-ALLDAYEVENT:FALSE
SUMMARY:Women's Group Networking
DESCRIPTION:Women's Networking Group
X-ALT-DESC;FMTTYPE=text/html:<div style="text-align: center\; ">Women&#39\;s Networking Group</div>\n
LOCATION:Claim Jumpers 2610 N. Stutton Hoffman Estates
UID:e.495.2647
SEQUENCE:3
DTSTAMP:20260423T080627Z
URL:https://members.hechamber.com/events/details/women-s-group-networking-12-03-2014-2647
END:VEVENT

END:VCALENDAR
