BEGIN:VCALENDAR
VERSION:2.0
PRODID:-//ChamberMaster//Event Calendar 2.0//EN
METHOD:PUBLISH
X-PUBLISHED-TTL:P3D
REFRESH-INTERVAL:P3D
CALSCALE:GREGORIAN
BEGIN:VEVENT
DTSTART:20200131T200000Z
DTEND:20200131T230000Z
X-MICROSOFT-CDO-ALLDAYEVENT:FALSE
SUMMARY:Winter Open House
DESCRIPTION:Join us at Charter Senior Living of Poplar Creek as we calypso away the cold!\nEnjoy live steel pan music and refreshments while learning about affordable assisted living and memory care options near your home.  Residents and staff are excited to meet and greet with you!\n\n\n\nPlease inquire with Sue Wenigman for more information by phone\, email\, or walk-in.\n\nCharter Senior Living of Poplar Creek\n 2150 W Golf Rd\, Hoffman Estates IL 60169\n\n(847) 755-0735\n\nmarketing@charterpoplarcreek.com
X-ALT-DESC;FMTTYPE=text/html:<h2 style="font-style:italic\;"><br />\n<span style="font-size:18px\;"><span style="color:#000080"><span style="font-family:verdana"><strong>Join us at Charter Senior Living of Poplar Creek as we calypso away the cold!</strong></span></span></span></h2>\n<span style="font-family:verdana"><span style="color:#008080"><span style="font-size:16px\;">Enjoy live steel pan music and refreshments while learning about affordable assisted living and memory care options near your home.&nbsp\; Residents and staff are excited to meet and greet with you!</span><br />\n<br />\n<span style="font-size:16px\;">Please inquire with Sue Wenigman for more information by phone\, email\, or walk-in.</span></span></span>\n\n<h2 style="font-style:italic\;"><span style="font-size:16px\;"><span style="font-family:verdana"><span style="color:#000080"><strong>Charter Senior Living of Poplar Creek</strong></span></span></span></h2>\n<span style="font-size:16px\;"> <span style="font-family:verdana"><span style="color:#008080">2150 W Golf Rd\, Hoffman Estates IL 60169<br />\n(847) 755-0735<br />\nmarketing@charterpoplarcreek.com</span></span></span><br />\n&nbsp\;
LOCATION:Charter Senior Living of Poplar Creek 2150 W Golf Rd\, Hoffman Estates IL 60169 (847) 755-0735 marketing@charterpoplarcreek.com
UID:e.495.6729
SEQUENCE:3
DTSTAMP:20260422T153751Z
URL:https://members.hechamber.com/events/details/winter-open-house-6729
END:VEVENT

END:VCALENDAR
