BEGIN:VCALENDAR
VERSION:2.0
PRODID:-//ChamberMaster//Event Calendar 2.0//EN
METHOD:PUBLISH
X-PUBLISHED-TTL:P3D
REFRESH-INTERVAL:P3D
CALSCALE:GREGORIAN
BEGIN:VEVENT
DTSTART:20201003T230000Z
DTEND:20201004T000000Z
X-MICROSOFT-CDO-ALLDAYEVENT:FALSE
SUMMARY:WINGS 20th Annual Virtual Purple Tie Ball
DESCRIPTION:We invite you to raise a glass with us (from the location of your choosing) as we commemorate Domestic Violence Awareness Month and celebrate our survivors who are now thriving.\n\nAlthough we are not able to gather in person\, this year's 20th Annual Virtual Purple Tie Ball promises a unique opportunity to come together in new and creative ways. We will have great music and an online auction with several one of a kind items that we can't wait to tell you about! Our speakers and WINGS graduates will share powerful stories about surviving domestic violence and thriving!  And we will continue our tradition of honoring an outstanding WINGS graduate with the David K. Hill Award.  And for the first time ever we will be bringing the gala to you!\n\nFor questions regarding sponsorship opportunities or to donate to our silent auction\, please contact Nikki at nkatrodia@wingsprogram.com.\n\nOur online registration link will be open on July 15th. \n\nWe look forward to your support and to being together   virtually!\n\nThank you!
X-ALT-DESC;FMTTYPE=text/html:<p><span style="color:#4B0082\;"><span style="font-size:16px\;">We invite you to raise a glass with us (from the location of your choosing) as we commemorate Domestic Violence Awareness Month and celebrate our survivors who are now thriving.</span></span></p>\n\n<p><span style="color:#4B0082\;"><span style="font-size:16px\;">Although we are not able to gather in person\, this year&rsquo\;s&nbsp\;<strong>20th&nbsp\;Annual&nbsp\;<em>Virtual</em>&nbsp\;Purple Tie Ball&nbsp\;</strong>promises a unique opportunity to come together in new and creative ways. We will have great music and an online auction with several one of a kind items that we can&rsquo\;t wait to tell you about! Our speakers and WINGS graduates will share powerful stories about surviving domestic violence and thriving!&nbsp\; And we will continue our tradition of honoring an outstanding WINGS graduate with the David K. Hill Award.&nbsp\; And for the first time ever we will be bringing the gala to you!</span></span></p>\n\n<p><span style="font-size:16px\;"><span style="color:#4B0082\;">For questions regarding sponsorship opportunities or to donate to our silent auction\, please contact Nikki at&nbsp\;</span><a href="mailto:nkatrodia@wingsprogram.com" style="text-decoration-line: none\; transition-duration: 0.4s\; color: rgb(121\, 53\, 177) !important\;"><span style="color:#4B0082\;">nkatrodia@wingsprogram.com</span></a><span style="color:#4B0082\;">.</span></span></p>\n\n<p><span style="color:#4B0082\;"><span style="font-size:16px\;"><em><strong>Our online registration link will be open on July 15th.&nbsp\;</strong></em></span></span></p>\n\n<p><span style="color:#4B0082\;"><span style="font-size:16px\;">We look forward to your support and to being together &ndash\;&nbsp\;<em>virtually</em>!</span></span></p>\n\n<p><span style="color:#4B0082\;"><span style="font-size:16px\;">Thank you!</span></span></p>\n
LOCATION:Online Virtual Event
UID:e.495.7035
SEQUENCE:3
DTSTAMP:20260422T005555Z
URL:https://members.hechamber.com/events/details/wings-20th-annual-virtual-purple-tie-ball-7035
END:VEVENT

END:VCALENDAR
