BEGIN:VCALENDAR
VERSION:2.0
PRODID:-//ChamberMaster//Event Calendar 2.0//EN
METHOD:PUBLISH
X-PUBLISHED-TTL:P3D
REFRESH-INTERVAL:P3D
CALSCALE:GREGORIAN
BEGIN:VEVENT
DTSTART:20181128T233000Z
DTEND:20181129T013000Z
X-MICROSOFT-CDO-ALLDAYEVENT:FALSE
SUMMARY:Wine Wednesday
DESCRIPTION:Join us for food and conversation at Wine Wednesday! It's a perfect opportunity to meet a few new friends while visiting a Hoffman Estates eatery. This month we'll be at 1st Place Sports Bar & Grill on Algonquin Road. They'll treat us to appetizers and have provided drink specials.\n\n\n\nThe event is FREE and donations of non-perishable food items are collected for our local food pantrys. Bring an item or two if you think of it!
X-ALT-DESC;FMTTYPE=text/html:<br />\n<span style="font-size:16px"><span style="font-family:comic sans ms">Join us for food and conversation at Wine Wednesday! It&#39\;s a perfect opportunity to meet a few new friends while visiting a Hoffman Estates eatery. This month we&#39\;ll be at 1st Place Sports Bar &amp\; Grill on Algonquin Road. They&#39\;ll treat us to appetizers and have provided drink specials.<br />\n<br />\nThe event is FREE and donations of non-perishable food items are collected for our local food pantrys. Bring an item or two if you think of it!</span></span>
LOCATION:The Saddle Room 2559 Pratum Avenue Hoffman Estates\, IL
UID:e.495.4966
SEQUENCE:3
DTSTAMP:20260424T215940Z
URL:https://members.hechamber.com/events/details/wine-wednesday-11-28-2018-4966
END:VEVENT

END:VCALENDAR
