BEGIN:VCALENDAR
VERSION:2.0
PRODID:-//ChamberMaster//Event Calendar 2.0//EN
METHOD:PUBLISH
X-PUBLISHED-TTL:P3D
REFRESH-INTERVAL:P3D
CALSCALE:GREGORIAN
BEGIN:VEVENT
DTSTART:20190828T223000Z
DTEND:20190829T003000Z
X-MICROSOFT-CDO-ALLDAYEVENT:FALSE
SUMMARY:Wine Wednesday
DESCRIPTION:Join us ad the Saddle Room for fun\, drinks\, food and conversation on the back patio! As always\, we will collect food for local food pantries. All contributions are welcome and appreciated. Bring a friend or two - hope to see you there!
X-ALT-DESC;FMTTYPE=text/html:Join us ad the Saddle Room for fun\, drinks\, food and conversation on the back patio! As always\, we will collect food for local food pantries. All contributions are welcome and appreciated. Bring a friend or two - hope to see you there!
LOCATION:Saddle Room 2559 Pratum Avenue Hoffman Estates\, IL
UID:e.495.5642
SEQUENCE:3
DTSTAMP:20260422T230114Z
URL:https://members.hechamber.com/events/details/wine-wednesday-08-28-2019-5642
END:VEVENT

END:VCALENDAR
