BEGIN:VCALENDAR
VERSION:2.0
PRODID:-//ChamberMaster//Event Calendar 2.0//EN
METHOD:PUBLISH
X-PUBLISHED-TTL:P3D
REFRESH-INTERVAL:P3D
CALSCALE:GREGORIAN
BEGIN:VEVENT
DTSTART:20251002T160000Z
DTEND:20251002T230000Z
X-MICROSOFT-CDO-ALLDAYEVENT:FALSE
SUMMARY:Windy City Bulls Golf Classic
DESCRIPTION:Windy City invites you to the first-ever Windy City Bulls Golf Classic presented by BMO. Tee off the season at this special event and hit the links with Gus T. and friends! Gear up for a tradition unlike any other.\n\n\n\nProceeds from the event benefit Chicago Bulls Charities.\n\n\n\nTo finalize your registration\, please contact Karah Landries at klandries@bulls.com or by phone at 847-396-9301.
X-ALT-DESC;FMTTYPE=text/html:<span style="color:black"><span style="font-family:aptos narrow\,sans-serif"><span style="font-size:11.0pt">Windy City invites you to the first-ever Windy City Bulls Golf Classic presented by BMO. Tee off the season at this special event and hit the links with Gus T. and friends! Gear up for a tradition unlike any other.</span></span></span><br />\n<br />\n<span style="color:black"><span style="font-family:aptos narrow\,sans-serif"><span style="font-size:11.0pt">Proceeds from the event benefit Chicago Bulls Charities.<br />\n<br />\nTo finalize your registration\, please contact Karah Landries at klandries@bulls.com or by phone at 847-396-9301.</span></span></span>
LOCATION:Bridges of Poplar Creek Country Club
UID:e.495.9416
SEQUENCE:3
DTSTAMP:20260423T004736Z
URL:https://members.hechamber.com/events/details/windy-city-bulls-golf-classic-9416
END:VEVENT

END:VCALENDAR
