BEGIN:VCALENDAR
VERSION:2.0
PRODID:-//ChamberMaster//Event Calendar 2.0//EN
METHOD:PUBLISH
X-PUBLISHED-TTL:P3D
REFRESH-INTERVAL:P3D
CALSCALE:GREGORIAN
BEGIN:VEVENT
DTSTART:20210221T010000Z
DTEND:20210221T023000Z
X-MICROSOFT-CDO-ALLDAYEVENT:FALSE
SUMMARY:Virtual Trivia for a Cause
DESCRIPTION:Join Lions Club & Rotary Club Members from the comfort of your own home for their co-hosted Trivia For A Cause Night fundraiser!\n\n \n\nEVENT PROCEEDS WILL BENEFIT:\n\nRotary & Lions Clubs' Community Service Projects\n\n\n\nTICKETS\n\n$25 per person / $200 per team up to 8\n\nPurchase tickets at www.schaumburgamrotary.org\n\n\n\nDETAILS\n\nWe are partnering with TriviaHub who will host this friendly and fun competition using the Zoom video conferencing platform.\n\n \n\nOn game day we will e-mail registrants a unique meeting link that will allow access to this online event. Registrants will forward that link to their respective team members.\n\n \n\nParticipants may be from any location. Additionally\, you must have internet access and the Zoom app installed on your device (computer\, tablet or smartphone).\n\n\n\nEVENT CO-HOSTED BY -\n\nSchaumburg - Hoffman Estates Lions Club\n\nContact: Mike Rapp\n\n(847) 791-2079\n\nEmail: shlionmike@gmail.com\n\n\n\nRotary Club of Schaumburg A.M.\n\nContact: Sharon Perry\n\n(847) 975-3348\n\nschaumburgamrotary@gmail.com
X-ALT-DESC;FMTTYPE=text/html:<div><span style="font-size:16px\;">Join Lions Club &amp\; Rotary Club Members from the comfort of your own home for their co-hosted Trivia For A Cause Night fundraiser!</span><br />\n&nbsp\;</div>\n\n<div><span style="font-size:16px\;"><strong>EVENT PROCEEDS WILL BENEFIT:</strong><br />\nRotary &amp\; Lions Clubs&#39\; Community Service Projects</span></div>\n\n<div><br />\n<span style="font-size:16px\;"><strong>TICKETS</strong><br />\n$25 per person / $200 per team up to 8<br />\nPurchase tickets at&nbsp\;<a class="oajrlxb2 g5ia77u1 qu0x051f esr5mh6w e9989ue4 r7d6kgcz rq0escxv nhd2j8a9 nc684nl6 p7hjln8o kvgmc6g5 cxmmr5t8 oygrvhab hcukyx3x jb3vyjys rz4wbd8a qt6c0cv9 a8nywdso i1ao9s8h esuyzwwr f1sip0of lzcic4wl py34i1dx gpro0wi8" href="http://www.schaumburgamrotary.org/?fbclid=IwAR3KetoeN9gNEC0MD-0f7qjNWBYU7NhzlTEQcsY-ifqzY8n6UiDiJYzbx2Y" rel="nofollow noopener" style="color: var(--blue-link)\; cursor: pointer\; text-decoration-line: none\; outline: none\; list-style: none\; border-width: 0px\; border-style: initial\; border-color: initial\; padding: 0px\; margin: 0px\; touch-action: manipulation\; background-color: transparent\; text-align: inherit\; display: inline\; -webkit-tap-highlight-color: transparent\; box-sizing: border-box\; font-family: inherit\;" tabindex="0" target="_blank">www.schaumburgamrotary.org</a></span></div>\n\n<div><br />\n<span style="font-size:16px\;"><strong>DETAILS</strong></span></div>\n\n<div><span style="font-size:16px\;">We are partnering with TriviaHub who will host this friendly and fun competition using the Zoom video conferencing platform.</span><br />\n&nbsp\;</div>\n\n<div><span style="font-size:16px\;">On game day we will e-mail registrants a unique meeting link that will allow access to this online event. Registrants will forward that link to their respective team members.</span><br />\n&nbsp\;</div>\n\n<div><span style="font-size:16px\;">Participants may be from any location. Additionally\, you must have internet access and the Zoom app installed on your device (computer\, tablet or smartphone).</span></div>\n\n<div><br />\n<span style="font-size:16px\;"><strong>EVENT CO-HOSTED BY -</strong></span></div>\n\n<div><span style="font-size:16px\;">Schaumburg - Hoffman Estates Lions Club</span></div>\n\n<div><span style="font-size:16px\;">Contact: Mike Rapp<br />\n(847) 791-2079</span></div>\n\n<div><span style="font-size:16px\;">Email: shlionmike@gmail.com<br />\n<br />\nRotary Club of Schaumburg A.M.</span></div>\n\n<div><span style="font-size:16px\;">Contact: Sharon Perry<br />\n(847) 975-3348<br />\nschaumburgamrotary@gmail.com</span></div>\n
LOCATION:Virtually
UID:e.495.7110
SEQUENCE:3
DTSTAMP:20260421T180908Z
URL:https://members.hechamber.com/events/details/virtual-trivia-for-a-cause-7110
END:VEVENT

END:VCALENDAR
