BEGIN:VCALENDAR
VERSION:2.0
PRODID:-//ChamberMaster//Event Calendar 2.0//EN
METHOD:PUBLISH
X-PUBLISHED-TTL:P3D
REFRESH-INTERVAL:P3D
CALSCALE:GREGORIAN
BEGIN:VEVENT
DTSTART:20210524T130000Z
DTEND:20210524T140000Z
X-MICROSOFT-CDO-ALLDAYEVENT:FALSE
SUMMARY:Virtual Board of Directors Meeting
DESCRIPTION:Monthly Board of Directors Meeting\n\n \n\nBoard Chair:  Lisa Christie
X-ALT-DESC;FMTTYPE=text/html:<div>&nbsp\;</div>\n\n<div style="text-align: center\;"><span style="font-size:18px\;"><strong><span style="font-family: arial\;"><span style="color: rgb(0\, 0\, 128)\;">Monthly Board of Directors Meeting</span></span></strong></span><br />\n&nbsp\;</div>\n\n<div style="text-align: center\;"><span style="font-size:16px\;"><span style="color: rgb(0\, 0\, 128)\;"><strong><span style="font-family: arial\;">Board Chair:&nbsp\; Lisa Christie</span></strong></span></span></div>\n
LOCATION:This will be an In Person and Virtual Board Meeting. You will receive an invitation to log in to the meeting\, if you would like to attend virtually. If you would like to attend in person\, the Board Meeting will take place at: L & M Financial Services\, Inc. 2200 W. Higgins Road\, Suite 203 (Above Hoffman Estates Community Bank & across the hall from the Chamber office.) Hoffman Estates
UID:e.495.7168
SEQUENCE:3
DTSTAMP:20260421T131658Z
URL:https://members.hechamber.com/events/details/virtual-board-of-directors-meeting-7168
END:VEVENT

END:VCALENDAR
