BEGIN:VCALENDAR
VERSION:2.0
PRODID:-//ChamberMaster//Event Calendar 2.0//EN
METHOD:PUBLISH
X-PUBLISHED-TTL:P3D
REFRESH-INTERVAL:P3D
CALSCALE:GREGORIAN
BEGIN:VEVENT
DTSTART:20191111T173000Z
DTEND:20191111T190000Z
X-MICROSOFT-CDO-ALLDAYEVENT:FALSE
SUMMARY:Veterans Day Lunch and Workshop
DESCRIPTION:As America thanks those who sacrificed for our country\, join us to learn about a benefit which gives back to our heroes and their spouses.  When the time comes for senior living\, you may qualify for $14\,509 - $26\,765* tax-free annual income from the Department of Veterans Affairs.\n\n\n\nCharter Senior Living of Poplar Creek is hosting a free workshop for Veterans and their families.  Lunch will be served.\n\n\n\nPlease RSVP to 847-755-0735\n\n\n\n*Benefit amount is determined by the VA based on eligibility.\n\n\n\nwww.charterpoplarcreek.com\n\nwww.veteransfinancial.com
X-ALT-DESC;FMTTYPE=text/html:<strong><span style="font-size:18px\;">As America thanks those who sacrificed for our country\, join us to learn about a benefit which gives back to our heroes and their spouses.&nbsp\; When the time comes for senior living\, you may qualify for<span style="color:#4B0082"> </span><span style="color:#800080">$14\,509 - $26\,765*</span><span style="color:#4B0082"> </span>tax-free annual income from the Department of Veterans Affairs.<br />\n<br />\n<span style="color:#0000CD">Charter Senior Living of Poplar Creek </span>is hosting a free workshop for Veterans and their families.&nbsp\; Lunch will be served.<br />\n<br />\nPlease RSVP to 847-755-0735</span><br />\n<br />\n<em>*Benefit amount is determined by the VA based on eligibility.</em><br />\n<br />\nwww.charterpoplarcreek.com<br />\nwww.veteransfinancial.com</strong><br />\n&nbsp\;
LOCATION:Charter Senior Living of Poplar Creek 2150 W Golf Rd\, Hoffman Estates\, IL 60169 847-755-0735
UID:e.495.5696
SEQUENCE:3
DTSTAMP:20260422T183331Z
URL:https://members.hechamber.com/events/details/veterans-day-lunch-and-workshop-5696
END:VEVENT

END:VCALENDAR
