BEGIN:VCALENDAR
VERSION:2.0
PRODID:-//ChamberMaster//Event Calendar 2.0//EN
METHOD:PUBLISH
X-PUBLISHED-TTL:P3D
REFRESH-INTERVAL:P3D
CALSCALE:GREGORIAN
BEGIN:VEVENT
DTSTART:20180824T180000Z
DTEND:20180824T200000Z
X-MICROSOFT-CDO-ALLDAYEVENT:FALSE
SUMMARY:Using Public Transportation
DESCRIPTION:Whether you are a first-time or infrequent rider\, a senior\, student\, or person with a disability\, this program will help you easily utilize services on the Metra\, Chicago Transit Authority\, and Pace Suburban Bus. You'll also discover the services available to you in Schaumburg Township. Be sure to bring your transit questions.\n\nSchaumburg Township District Library\, 130 S. Roselle Rd.\, Schaumburg\n\nRegister online at https://www.schaumburglibrary.org/ or call Information Services at 847-923-3347.
X-ALT-DESC;FMTTYPE=text/html:<div style="text-align: center\;">&nbsp\;</div>\n<span style="font-size:16px\;"><span style="font-family:arial\;">Whether you are a first-time or infrequent rider\,&nbsp\;a senior\, student\, or person with a disability\,&nbsp\;this program will help you easily utilize services&nbsp\;on the Metra\, Chicago Transit Authority\,&nbsp\;and Pace Suburban Bus. You&rsquo\;ll also discover&nbsp\;the services available to you in Schaumburg Township. Be&nbsp\;sure to bring your transit questions.<br />\nSchaumburg Township District Library\, 130 S. Roselle Rd.\, Schaumburg<br />\nRegister online at <a href="https://www.schaumburglibrary.org/">https://www.schaumburglibrary.org/</a> or call Information Services at 847-923-3347.</span></span><br />\n<br />\n<br />\n&nbsp\;
LOCATION:Schaumburg Township District Library 130 S. Roselle Rd.\, Schaumburg
UID:e.495.4783
SEQUENCE:3
DTSTAMP:20260425T023715Z
URL:https://members.hechamber.com/events/details/using-public-transportation-4783
END:VEVENT

END:VCALENDAR
