BEGIN:VCALENDAR
VERSION:2.0
PRODID:-//ChamberMaster//Event Calendar 2.0//EN
METHOD:PUBLISH
X-PUBLISHED-TTL:P3D
REFRESH-INTERVAL:P3D
CALSCALE:GREGORIAN
BEGIN:VEVENT
DTSTART:20181207T193000Z
DTEND:20181207T213000Z
X-MICROSOFT-CDO-ALLDAYEVENT:FALSE
SUMMARY:Using Public Transportation
DESCRIPTION:Whether you are a first-time or infrequent rider\, a senior\, student\, or person with a disability\, this program will help you easily utilize services on the Metra\, Chicago Transit Authority\, and Pace Suburban Bus. You'll also discover the services available to you in Schaumburg Township.\n\nIn this special Winter Edition\, you'll learn how to access Chicagoland's winter attractions from Millennium Park to Woodfield Mall and more. \n\nPresenters include:\n\n\n	Linda Chamberlain\, RTA\n	Village of Hoffman Estates\n	Richard Bascomb\, Village of Schaumburg\n	Nick Christopher\, Schaumburg Township\n	Linda Steininger\, Hanover Township\n	Steve Andrews\, Pace
X-ALT-DESC;FMTTYPE=text/html:<p><span style="color:#000080\;"><span style="font-size:16px\;"><span style="font-family:tahoma\;">Whether you are a first-time or infrequent rider\,&nbsp\;a senior\, student\, or person with a disability\,&nbsp\;this program will help you easily utilize services&nbsp\;on the Metra\, Chicago Transit Authority\,&nbsp\;and Pace Suburban Bus. You&rsquo\;ll also discover&nbsp\;the services available to you in Schaumburg Township.</span></span></span></p>\n\n<p><span style="color:#000080\;"><span style="font-size:16px\;"><span style="font-family:tahoma\;">In this special Winter Edition\, you&#39\;ll learn how to access Chicagoland&#39\;s winter attractions from Millennium Park to Woodfield Mall and more.&nbsp\;</span></span></span></p>\n\n<p><span style="color:#000080\;"><span style="font-size:16px\;"><span style="font-family:tahoma\;">Presenters include:</span></span></span></p>\n\n<ul>\n	<li><span style="color:#000080\;"><span style="font-size:16px\;"><span style="font-family:tahoma\;">Linda Chamberlain\, RTA</span></span></span></li>\n	<li><span style="color:#000080\;"><span style="font-size:16px\;"><span style="font-family:tahoma\;">Village of Hoffman Estates</span></span></span></li>\n	<li><span style="color:#000080\;"><span style="font-size:16px\;"><span style="font-family:tahoma\;">Richard Bascomb\, Village of Schaumburg</span></span></span></li>\n	<li><span style="color:#000080\;"><span style="font-size:16px\;"><span style="font-family:tahoma\;">Nick Christopher\, Schaumburg Township</span></span></span></li>\n	<li><span style="color:#000080\;"><span style="font-size:16px\;"><span style="font-family:tahoma\;">Linda Steininger\, Hanover Township</span></span></span></li>\n	<li><span style="color:#000080\;"><span style="font-size:16px\;"><span style="font-family:tahoma\;">Steve Andrews\, Pace</span></span></span></li>\n</ul>\n
LOCATION:Schaumburg Township District Library 130 S. Roselle Rd. Schaumburg\, IL 60193
UID:e.495.4834
SEQUENCE:3
DTSTAMP:20260424T202856Z
URL:https://members.hechamber.com/events/details/using-public-transportation-12-07-2018-4834
END:VEVENT

END:VCALENDAR
