BEGIN:VCALENDAR
VERSION:2.0
PRODID:-//ChamberMaster//Event Calendar 2.0//EN
METHOD:PUBLISH
X-PUBLISHED-TTL:P3D
REFRESH-INTERVAL:P3D
CALSCALE:GREGORIAN
BEGIN:VEVENT
DTSTART:20191210T010000Z
DTEND:20191210T023000Z
X-MICROSOFT-CDO-ALLDAYEVENT:FALSE
SUMMARY:Understanding Employee Rights in the Workplace
DESCRIPTION:Monday\, December 09 2019\, 7:00pm - 8:30pm\n\nCentral Library\, Rasmussen North ((A) Classroom)\n\n\n\nAttorney Ellen Yearwood will clearly address employee legal rights and employer responsibilities in the workplace. \n\n\n\nPlease register online (https://www.schaumburglibrary.org/\, click EVENTS) or call our Information Services Desk at 847-923-3347.
X-ALT-DESC;FMTTYPE=text/html:<strong><span style="font-family:arial\,sans-serif"><span style="font-size:12.0pt">Monday\, December 09 2019\, 7:00pm - 8:30pm</span></span></strong><br />\n<span style="font-family:arial\,sans-serif"><span style="font-size:12.0pt"><strong>Central Library\, Rasmussen North ((A) Classroom)</strong></span></span><br />\n<br />\n<span style="font-family:arial\,sans-serif"><span style="font-size:12.0pt">Attorney Ellen Yearwood will clearly address employee legal rights and employer responsibilities in the workplace.&nbsp\;<br />\n<br />\nPlease register online (<a href="https://www.schaumburglibrary.org/">https://www.schaumburglibrary.org/</a>\, click EVENTS) or call our Information Services Desk at 847-923-3347.</span></span><br />\n<br />\n&nbsp\;
LOCATION:Central Library 130 South Roselle Road Schaumburg\, IL 60193 (847) 985-4000
UID:e.495.5673
SEQUENCE:3
DTSTAMP:20260422T165826Z
URL:https://members.hechamber.com/events/details/understanding-employee-rights-in-the-workplace-5673
END:VEVENT

END:VCALENDAR
