BEGIN:VCALENDAR
VERSION:2.0
PRODID:-//ChamberMaster//Event Calendar 2.0//EN
METHOD:PUBLISH
X-PUBLISHED-TTL:P3D
REFRESH-INTERVAL:P3D
CALSCALE:GREGORIAN
BEGIN:VEVENT
DTSTART:20190921T220000Z
DTEND:20190922T010000Z
X-MICROSOFT-CDO-ALLDAYEVENT:FALSE
SUMMARY:Trivia for a Cause!
DESCRIPTION:Join Lions Club & Rotary Club Members for their\n\nCo-Hosted Trivia Night! \n\n\n\nLOCATION:\n\nPoplar Creek Bowl - 2354 W Higgins Rd\, Hoffman Estates\n\n\n\nEVENT PROCEEDS WILL BENEFIT:\n\nFunds raised benefit the following Rotary & Lions Clubs' Community Service Projects.\n\nSchaumburg Township Food Pantry - This pantry serves 600+ individuals & families per month\n\n\n\nOperation Warm - New winter coats for kids from at-risk\, low income families attending Marletta Darnall Schaumburg Child & Family Center\n\n\n\nDOOR PRIZE RAFFLE\n\nBring Non-Perishable Food Items for the Food Pantry to Enter - 1 Raffle Ticket Per Donated Item\n\n\n\nTICKETS\n\nAdvance Ticket Purchase - $20 per person / $160 per table of 8\n\nTicket Purchase at the Door - $25 pp / $200 per table of 8\n\nSolo's Welcome\n\nLimited Number of Tables Available\n\n\n\nCash Bar / Order Food off Menu or BYO Snacks.\n\n(Please\, no outside meals or pizza)\n\n\n\nTICKET LINK\n\nFACEBOOK EVENT PAGE: https://www.facebook.com/events/358679278363407/
X-ALT-DESC;FMTTYPE=text/html:<p style="text-align: center\;"><span style="font-family:arial\,helvetica\,sans-serif"><span style="font-size:20px\;"><span style="color:#333399\;"><strong>Join Lions Club &amp\; Rotary Club Members for their<br />\nCo-Hosted Trivia Night! </strong></span></span></span></p>\n\n<p><br />\n<span style="font-family:arial\,helvetica\,sans-serif"><span style="font-size:16px\;"><span style="color:#333399\;"><strong>LOCATION:</strong></span></span><br />\n<span style="font-size:16px\;"><strong>Poplar Creek Bowl -&nbsp\;2354 W Higgins Rd\, Hoffman Estates</strong></span><br />\n<br />\n<span style="color:#333399\;"><span style="font-size:16px\;"><strong>EVENT PROCEEDS WILL BENEFIT:</strong></span></span></span></p>\n\n<p><strong><span style="font-family:arial\,helvetica\,sans-serif"><span style="color:rgb(29\, 33\, 41)\; font-size:14px">Funds raised benefit the following Rotary &amp\; Lions Clubs&#39\; Community Service Projects.</span></span></strong></p>\n\n<p><span style="font-family:arial\,helvetica\,sans-serif"><span style="font-size:16px\;"><strong><a href="https://www.facebook.com/SchaumburgTownship/" style="color: rgb(56\, 88\, 152)\; cursor: pointer\; text-decoration-line: none\; font-family: Helvetica\, Arial\, sans-serif\; font-size: 14px\; white-space: pre-wrap\;" target="_blank"><span style="color:#3366ff\;">Schaumburg Township</span></a></strong><span style="color:#3366ff\;"><strong> Food Pantry</strong></span><span style="color: rgb(29\, 33\, 41)\;"><strong> </strong>- This pantry serves 600+ individuals &amp\; families per month</span><br />\n<br />\n<strong><a href="https://www.facebook.com/OperationWarm/" style="color: rgb(56\, 88\, 152)\; cursor: pointer\; text-decoration-line: none\; font-family: Helvetica\, Arial\, sans-serif\; font-size: 14px\; white-space: pre-wrap\;" target="_blank"><span style="color:#3366ff\;">Operation Warm</span></a></strong><span style="color:#3366ff\;"><strong> - </strong></span><span style="color: rgb(29\, 33\, 41)\;">New winter coats for kids from at-risk\, low income families attending </span><strong><a href="https://www.facebook.com/DarnallChildCenter/" style="color: rgb(56\, 88\, 152)\; cursor: pointer\; text-decoration-line: none\; font-family: Helvetica\, Arial\, sans-serif\; font-size: 14px\; white-space: pre-wrap\;" target="_blank"><span style="color:#3366ff\;">Marletta Darnall Schaumburg Child &amp\; Family Center</span></a></strong></span><br />\n<br />\n<span style="font-size:16px\;"><span style="color:#333399\;"><strong>DOOR PRIZE RAFFLE</strong></span><br />\n<span style="color: rgb(29\, 33\, 41)\;">Bring Non-Perishable Food Items for the Food Pantry to Enter - 1 Raffle Ticket Per Donated Item</span><br />\n<br />\n<span style="color:#333399\;"><strong>TICKETS</strong></span><br />\n<span style="color: rgb(29\, 33\, 41)\;">Advance Ticket Purchase - $20 per person / $160 per table of 8</span><br />\n<span style="color: rgb(29\, 33\, 41)\;">Ticket Purchase at the Door - $25 pp / $200 per table of 8</span><br />\n<em><span style="color: rgb(29\, 33\, 41)\;">Solo&#39\;s Welcome</span><br />\n<span style="color: rgb(29\, 33\, 41)\;">Limited Number of Tables Available</span></em></span><br />\n<br />\n<span style="font-size:16px\;"><span style="color: rgb(29\, 33\, 41)\;">Cash Bar / Order Food off Menu or BYO Snacks.</span><br />\n<span style="color: rgb(29\, 33\, 41)\;"><em>(Please\, no outside meals or pizza)</em></span><br />\n<br />\n<a href="https://www.crsadmin.com/EventPortal/Registrations/PublicFill/EventPublicFill.aspx?evtid=625514f4-5543-48cd-a43d-003dd1f26850&amp\;fbclid=IwAR3SVBVEnBwefQK0mmObu2IwYy5r-MuyayEqC_SajoqvIs1UX3i0cRWU6ic"><strong><span style="background-color:#FFFF00">TICKET LINK</span></strong></a><br />\n<span style="color: rgb(29\, 33\, 41)\;">FACEBOOK EVENT PAGE:&nbsp\;</span><a href="https://www.facebook.com/events/358679278363407/">https://www.facebook.com/events/358679278363407/</a></span></span></p>\n
LOCATION:Poplar Creek Bowl 2354 W Higgins Road Hoffman Estates
UID:e.495.5643
SEQUENCE:3
DTSTAMP:20260422T212805Z
URL:https://members.hechamber.com/events/details/trivia-for-a-cause-5643
END:VEVENT

END:VCALENDAR
