BEGIN:VCALENDAR
VERSION:2.0
PRODID:-//ChamberMaster//Event Calendar 2.0//EN
METHOD:PUBLISH
X-PUBLISHED-TTL:P3D
REFRESH-INTERVAL:P3D
CALSCALE:GREGORIAN
BEGIN:VEVENT
DTSTART:20191031T200000Z
DTEND:20191031T213000Z
X-MICROSOFT-CDO-ALLDAYEVENT:FALSE
SUMMARY:Trick or Treating at Charter Senior Living of Poplar Creek
DESCRIPTION:Join us at Charter for an afternoon of trick-or-treating!  Bring the whole family for candy\, music\, and fun with our assisted living and memory care residents.\n\n\n\nRain or shine\, this event's inside!  No need to worry about hiding costumes under a winter coat this year!
X-ALT-DESC;FMTTYPE=text/html:<span style="color:#FF8C00\;"><span style="font-size:18px\;"><span style="font-family:comic sans ms\;">Join us at Charter for an afternoon of trick-or-treating!&nbsp\; Bring the whole family for candy\, music\, and fun with our assisted living and memory care residents.</span></span></span><br />\n<br />\n<span style="color:#000000\;"><span style="font-size:18px\;"><span style="font-family:comic sans ms\;">Rain or shine\, this event&#39\;s inside!&nbsp\; No need to worry about hiding costumes under a winter coat this year!</span></span></span>
LOCATION:2150 W Golf Road Hoffman Estates\, IL 60169
UID:e.495.5694
SEQUENCE:3
DTSTAMP:20260422T213608Z
URL:https://members.hechamber.com/events/details/trick-or-treating-at-charter-senior-living-of-poplar-creek-5694
END:VEVENT

END:VCALENDAR
