BEGIN:VCALENDAR
VERSION:2.0
PRODID:-//ChamberMaster//Event Calendar 2.0//EN
METHOD:PUBLISH
X-PUBLISHED-TTL:P3D
REFRESH-INTERVAL:P3D
CALSCALE:GREGORIAN
BEGIN:VEVENT
DTSTART:20181031T210000Z
DTEND:20181101T020000Z
X-MICROSOFT-CDO-ALLDAYEVENT:FALSE
SUMMARY:TRICK-OR-TREAT at Main Event Hoffman Estates!
DESCRIPTION:Trick-OR-Treat Fest\n\nMain Event Hoffman Estates\n\nWednesday\, October 31\, 2018 - 4:00pm   9:00pm \n\n \n\n \n\nCome and enjoy tons of Indoor Family FUN while being safe\n\nat Main Event! \n\n \n\n   Indoor Trick-OR-Treating! Safety First!\n\n   Raffles! Giveaways!  And MORE!\n\n   Free 4 hour Time Card for the Arcade if dressed in a costume!\n\n   Special Birthday Booking Offer!\n\n \n\nE-mail us to find out about more FUN events and specials! Or Call us!\n\nMain Event Hoffman Estates\n\n2575 Pratum Ave\, Hoffman Estates\, IL 60192\n\nHofsales@mainevent.com\n\n847-645-1111
X-ALT-DESC;FMTTYPE=text/html:<div style="text-align:center"><strong><span style="font-size:36pt"><span style="font-family:mv boli">Trick-OR-Treat Fest</span></span></strong><br />\n<strong><span style="font-size:22pt"><span style="font-family:baskerville old face\,serif">Main Event Hoffman Estates</span></span></strong><br />\n<strong><span style="font-size:22pt"><span style="font-family:baskerville old face\,serif">Wednesday\, October 31\, 2018 - 4:00pm &ndash\; 9:00pm </span></span></strong><br />\n&nbsp\;<br />\n&nbsp\;<br />\n<span style="color:#FF8C00\;"><span style="font-size:20px\;"><strong><span style="font-family:baskerville old face\,serif">Come and enjoy tons of Indoor Family <em>FUN</em> while being safe<br />\nat Main Event!&nbsp\;</span></strong></span></span><br />\n&nbsp\;<br />\n<span style="font-size:13pt"><span style="font-family:wingdings">&uuml\;&nbsp\; </span></span><strong><span style="font-size:13pt"><span style="font-family:baskerville old face\,serif">Indoor Trick-OR-Treating! Safety First!</span></span></strong><br />\n<span style="font-size:13pt"><span style="font-family:wingdings">&uuml\;&nbsp\; </span></span><strong><span style="font-size:13pt"><span style="font-family:baskerville old face\,serif">Raffles! Giveaways!&nbsp\; And <em>MORE</em>!</span></span></strong><br />\n<span style="font-size:13pt"><span style="font-family:wingdings">&uuml\;&nbsp\; </span></span><strong><span style="font-size:13pt"><span style="font-family:baskerville old face\,serif">Free 4 hour Time Card for the Arcade if dressed in a costume!</span></span></strong><br />\n<span style="font-size:13pt"><span style="font-family:wingdings">&uuml\;&nbsp\; </span></span><strong><span style="font-size:13pt"><span style="font-family:baskerville old face\,serif">Special Birthday Booking Offer!</span></span></strong><br />\n&nbsp\;<br />\n<span style="color:#FF8C00\;"><strong><span style="font-size:13pt"><span style="font-family:baskerville old face\,serif">E-mail us to find out about more <em>FUN</em> events and specials! Or Call us!</span></span></strong></span><br />\n<strong><span style="font-size:13pt"><span style="font-family:baskerville old face\,serif">Main Event Hoffman Estates</span></span></strong><br />\n<strong><span style="font-size:13pt"><span style="font-family:baskerville old face\,serif">2575 Pratum Ave\, Hoffman Estates\, IL 60192</span></span></strong><br />\n<strong><span style="font-size:13pt"><span style="font-family:baskerville old face\,serif">Hofsales@mainevent.com</span></span></strong><br />\n<strong><span style="font-size:13pt"><span style="font-family:baskerville old face\,serif">847-645-1111</span></span></strong></div>\n
LOCATION:2575 Pratum Ave Hoffman Estates\, IL 60192
UID:e.495.4805
SEQUENCE:3
DTSTAMP:20260424T233647Z
URL:https://members.hechamber.com/events/details/trick-or-treat-at-main-event-hoffman-estates-safety-first-4805
END:VEVENT

END:VCALENDAR
