BEGIN:VCALENDAR
VERSION:2.0
PRODID:-//ChamberMaster//Event Calendar 2.0//EN
METHOD:PUBLISH
X-PUBLISHED-TTL:P3D
REFRESH-INTERVAL:P3D
CALSCALE:GREGORIAN
BEGIN:VEVENT
DTSTART:20200123T003000Z
DTEND:20200123T020000Z
X-MICROSOFT-CDO-ALLDAYEVENT:FALSE
SUMMARY:Transition a Good Idea into a Great Business
DESCRIPTION:Transition a Good Idea into a Great Business\n\nWednesday\, January 22 2020\, 6:30pm - 8:00pm\n\nHoffman Estates Library Branch\, Meeting Room\n\n1500 Hassel Rd.\, Hoffman Estates\n\nSCORE presenter Chris Banakis will explain the Business Model Canvas\, which illustrates the search for the unknowns that most new ventures face. He will help you begin constructing a preliminary plan. We will discuss the challenges of traditional business plans and why startups\, educators and investors are adopting the Business Model Canvas. Please register online (https://www.schaumburglibrary.org/\, click EVENTS) or call our Information Services Desk at 847-923-3347.
X-ALT-DESC;FMTTYPE=text/html:<p><span style="font-size:12px"><span style="font-family:arial\,helvetica\,sans-serif">Transition a Good Idea into a Great Business</span></span></p>\n\n<p><span style="font-size:12px"><span style="font-family:arial\,helvetica\,sans-serif">Wednesday\, January 22 2020\, 6:30pm - 8:00pm</span></span></p>\n\n<p><span style="font-size:12px"><span style="font-family:arial\,helvetica\,sans-serif">Hoffman Estates Library Branch\, Meeting Room<br />\n1500 Hassel Rd.\, Hoffman Estates</span></span></p>\n\n<p><span style="font-size:12px"><span style="font-family:arial\,helvetica\,sans-serif">SCORE presenter Chris Banakis will explain the Business Model Canvas\, which illustrates the search for the unknowns that most new ventures face. He will help you begin constructing a preliminary plan. We will discuss the challenges of traditional business plans and why startups\, educators and investors are adopting the Business Model Canvas. Please register online (<a href="https://www.schaumburglibrary.org/">https://www.schaumburglibrary.org/</a>\, click EVENTS) or call our Information Services Desk at 847-923-3347.</span></span></p>\n
LOCATION:
UID:e.495.6738
SEQUENCE:3
DTSTAMP:20260422T170908Z
URL:https://members.hechamber.com/events/details/transition-a-good-idea-into-a-great-business-6738
END:VEVENT

END:VCALENDAR
