BEGIN:VCALENDAR
VERSION:2.0
PRODID:-//ChamberMaster//Event Calendar 2.0//EN
METHOD:PUBLISH
X-PUBLISHED-TTL:P3D
REFRESH-INTERVAL:P3D
CALSCALE:GREGORIAN
BEGIN:VEVENT
DTSTART:20191117T000000Z
DTEND:20191117T030000Z
X-MICROSOFT-CDO-ALLDAYEVENT:FALSE
SUMMARY:The Schaumburg-Hoffman Lions Club Present Sips & Nibbles
DESCRIPTION:The Schaumburg-Hoffman Lions Club invites you to "Sips & Nibbles" featuring Wine and Beer Tastings\, Restaurant Samplings\, Fine Chocolates\, Music\, Basket Auction and More!\n\nEnjoy a fun evening and get ready for the holidays with special discounts for attendees. Proceeds benefit our community projects.\n\nSponsoring Partners include: The Wine Cellar Outlet\, Chocolate Inspirations\, Pilot Pete's\, Bonefish Grill\, Bahama Breeze\, Riccardo's Ristorante\, and Wolfden Brewing Co.\n\n\n\nSaturday\, November 16 at 6:00pm\n\n\n\nTrickster Art Gallery\, 190 S. Roselle Rd.\, Schaumburg\, IL 60193\n\n\n\nTickets: $30.00 each\n\nOrder tickets online at: www.eventbrite.com/e/74842001441
X-ALT-DESC;FMTTYPE=text/html:<p><br />\n<span style="font-size:18px\;">The Schaumburg-Hoffman Lions Club invites you to &ldquo\;Sips &amp\; Nibbles&rdquo\; featuring Wine and Beer Tastings\, Restaurant Samplings\, Fine Chocolates\, Music\, Basket Auction and More!</span></p>\n\n<p><span style="font-size:18px\;">Enjoy a fun evening and get ready for the holidays with special discounts for attendees. Proceeds benefit our community projects.</span></p>\n\n<p><span style="font-size:18px\;">Sponsoring Partners include: The Wine Cellar Outlet\, Chocolate Inspirations\, Pilot Pete&#39\;s\, Bonefish Grill\, Bahama Breeze\, Riccardo&#39\;s Ristorante\, and Wolfden Brewing Co.<br />\n<br />\n<strong>Saturday\, November 16 at 6:00pm</strong><br />\n<br />\nTrickster Art Gallery\, 190 S. Roselle Rd.\, Schaumburg\, IL 60193<br />\n<br />\nTickets: $30.00 each<br />\n<strong>Order tickets online at: </strong>www.eventbrite.com/e/74842001441</span></p>\n
LOCATION:Trickster Art Gallery\, 190 S. Roselle Rd.\, Schaumburg\, IL 60193
UID:e.495.5697
SEQUENCE:3
DTSTAMP:20260422T183818Z
URL:https://members.hechamber.com/events/details/the-schaumburg-hoffman-lions-club-present-sips-nibbles-5697
END:VEVENT

END:VCALENDAR
