BEGIN:VCALENDAR
VERSION:2.0
PRODID:-//ChamberMaster//Event Calendar 2.0//EN
METHOD:PUBLISH
X-PUBLISHED-TTL:P3D
REFRESH-INTERVAL:P3D
CALSCALE:GREGORIAN
BEGIN:VEVENT
DTSTART:20190523T230000Z
DTEND:20190524T014500Z
X-MICROSOFT-CDO-ALLDAYEVENT:FALSE
SUMMARY:The Intuitive Hour and The Gift of Gong
DESCRIPTION:Do you feel that you've been trying too hard?\n\nCome for support with spiritual messages to help you understand that  \n\nYOU ARE PERFECT JUST THE WAY YOU ARE\n\nand enjoy renewal through sound healing.\n\n \n\n \n\nThe Intuitive Hour\, 6:00 - 7:30 pm. A sharing circle of intuitive readings\, channeled guidance and discussion. Receive two personalized intuitive messages: one from Lisa Gniady's Soul Reflections channel and one from Susan Atchison's Loving Insights readings.\n\nJust $25 pre-pay through the day before ($30 if register or walk in the day of the event)\n\n \n\nThe Gift of Gong\, 7:45 - 8:45 pm. A relaxing time for Gong. Lisa will also lead us through a spiritual activation. Just $25 pre-pay through the day before ($30 if register or walk in the day of the event)\n\n\n\nWant to save? Register for both of tonight's events and save $6!\n\nBoth! Register for both and save! Just $44 pre-pay through the day before. Must be pre-registered to attend both.
X-ALT-DESC;FMTTYPE=text/html:<h1><span style="color:#000080">Do you feel that you&rsquo\;ve been trying too hard?</span></h1>\n\n<h1><span style="color:#000080">Come for support with spiritual messages to help you understand that&hellip\; </span></h1>\n\n<h1><strong><span style="color:#000080">YOU ARE PERFECT JUST THE WAY YOU ARE</span></strong></h1>\n\n<h1><span style="color:#000080">and enjoy renewal through sound healing.</span></h1>\n\n<p>&nbsp\;</p>\n\n<p>&nbsp\;</p>\n\n<h2><span style="color:#4B0082"><strong>The Intuitive Hour\,</strong> </span><span style="color:#800000"><span style="color:#000000">6:00 - 7:30 pm. A sharing circle of intuitive readings\, channeled guidance and discussion. Receive two personalized intuitive messages: one from Lisa Gniady&#39\;s Soul Reflections channel and one from Susan Atchison&#39\;s Loving Insights readings.</span></span></h2>\n\n<h2>Just $25 pre-pay through the day before ($30 if register or walk in the day of the event)</h2>\n\n<h2><span style="color:#800000"><span style="color:#000000">&nbsp\;</span></span></h2>\n\n<h2><span style="color:#4B0082"><strong>The Gift of Gong\, </strong></span>7:45 - 8:45 pm. A relaxing time for Gong. Lisa will also lead us through a spiritual activation. Just $25 pre-pay through the day before ($30 if register or walk in the day of the event)<br />\n<br />\nWant to save? Register for both of tonight&#39\;s events and save $6!</h2>\n\n<h2><span style="color:#4B0082"><strong>Both!</strong> </span>Register for both and save! Just $44 pre-pay through the day before. Must be pre-registered to attend both.</h2>\n
LOCATION:A Healing Soul\, Ltd. 555 West Central Road Hoffman Estates\, IL 60192
UID:e.495.5213
SEQUENCE:3
DTSTAMP:20260424T134904Z
URL:https://members.hechamber.com/events/details/the-gift-of-gong-and-the-intuitive-hour-03-21-2019-5213
END:VEVENT

END:VCALENDAR
