BEGIN:VCALENDAR
VERSION:2.0
PRODID:-//ChamberMaster//Event Calendar 2.0//EN
METHOD:PUBLISH
X-PUBLISHED-TTL:P3D
REFRESH-INTERVAL:P3D
CALSCALE:GREGORIAN
BEGIN:VEVENT
DTSTART:20190630T150000Z
DTEND:20190630T161500Z
X-MICROSOFT-CDO-ALLDAYEVENT:FALSE
SUMMARY:The Beacon Community Church Worship service
DESCRIPTION:Join us as we worship God\, by singing\, reading\, praying\, learning\, growing and encouraging one another.
X-ALT-DESC;FMTTYPE=text/html:Join us as we worship God\, by singing\, reading\, praying\, learning\, growing and encouraging one another.
LOCATION:We meet on Sundays at the Marriott in Hoffman Estates near the Sears Center.
UID:e.495.5389
SEQUENCE:3
DTSTAMP:20260424T122223Z
URL:https://members.hechamber.com/events/details/the-beacon-community-church-worship-service-06-30-2019-5389
END:VEVENT

END:VCALENDAR
