BEGIN:VCALENDAR
VERSION:2.0
PRODID:-//ChamberMaster//Event Calendar 2.0//EN
METHOD:PUBLISH
X-PUBLISHED-TTL:P3D
REFRESH-INTERVAL:P3D
CALSCALE:GREGORIAN
BEGIN:VEVENT
DTSTART:20181208T000000Z
DTEND:20181208T030000Z
X-MICROSOFT-CDO-ALLDAYEVENT:FALSE
SUMMARY:Spirit Painting playshop
DESCRIPTION:Spirit Painting Playshop - Let your creative side express itself! Come experience a deep meditation\, then infuse your canvas with pure essential oils. Next\, paint your vision of love\, peace\, joy or your Spirit Connection. No art experience is necessary. All supplies provided. You'll go home with a beautiful one-of-a-kind creation for yourself or to give to a loved one.
X-ALT-DESC;FMTTYPE=text/html:<br />\n<span style="color:#ff00cc\;"><span style="font-size:18px\;"><strong><span style="font-family:comic sans ms\;">Spirit Painting Playshop</span></strong></span></span> - <span style="font-size:16px\;"><span style="color:#800080\;"><span style="font-family:comic sans ms\;">Let your creative side express itself! Come experience a deep meditation\, then infuse your canvas with pure essential oils. Next\, paint your vision of love\, peace\, joy or your Spirit Connection. No art experience is necessary. All supplies provided. You&#39\;ll go home with a beautiful one-of-a-kind creation for yourself or to give to a loved one.</span></span></span>
LOCATION:A Healing Soul\, Ltd. 555 W. Central Road Hoffman Estates\, IL 60192
UID:e.495.4991
SEQUENCE:3
DTSTAMP:20260424T203519Z
URL:https://members.hechamber.com/events/details/spirit-painting-playshop-12-07-2018-4991
END:VEVENT

END:VCALENDAR
