BEGIN:VCALENDAR
VERSION:2.0
PRODID:-//ChamberMaster//Event Calendar 2.0//EN
METHOD:PUBLISH
X-PUBLISHED-TTL:P3D
REFRESH-INTERVAL:P3D
CALSCALE:GREGORIAN
BEGIN:VEVENT
DTSTART:20190413T003000Z
DTEND:20190413T030000Z
X-MICROSOFT-CDO-ALLDAYEVENT:FALSE
SUMMARY:SOUL Harbour Ranch: "Good 4 the SOUL" Restorative Yoga & Essential Oils
DESCRIPTION:Join Nicole for a beautiful 90- minute candlelit Restorative Yoga + Essential Oils Workshop. Achieve well-being\, peace and a renewed spirit and SOUL! Beginners through advanced welcome. 100 % of price will be donated to Soul Harbour Ranch Animal Therapy Program - 501c3 Light refreshments to follow. Essential Oils will be available with 25% donated to the SOUL Harbour Ranch Animal Therapy Program. Maximum 30 people.
X-ALT-DESC;FMTTYPE=text/html:<span style="font-size:16px\;"><span style="font-family:arial\;">Join Nicole for a beautiful 90- minute candlelit Restorative Yoga + Essential Oils Workshop. Achieve well-being\, peace and a renewed spirit and SOUL! Beginners through advanced welcome. 100 % of price will be donated to Soul Harbour Ranch Animal Therapy Program - 501c3 Light refreshments to follow. Essential Oils will be available with 25% donated to the SOUL Harbour Ranch Animal Therapy Program. Maximum 30 people.</span></span>
LOCATION:The Club at Prairie Stone 5050 Sedge Boulevard Hoffman Estates\, IL 60192
UID:e.495.5347
SEQUENCE:3
DTSTAMP:20260424T152752Z
URL:https://members.hechamber.com/events/details/soul-harbour-ranch-good-4-the-soul-restorative-yoga-essential-oils-5347
END:VEVENT

END:VCALENDAR
