BEGIN:VCALENDAR
VERSION:2.0
PRODID:-//ChamberMaster//Event Calendar 2.0//EN
METHOD:PUBLISH
X-PUBLISHED-TTL:P3D
REFRESH-INTERVAL:P3D
CALSCALE:GREGORIAN
BEGIN:VEVENT
DTSTART:20200227T003000Z
DTEND:20200227T020000Z
X-MICROSOFT-CDO-ALLDAYEVENT:FALSE
SUMMARY:SCORE: Selling & Profiting with Amazon
DESCRIPTION:SCORE: Selling & Profiting with Amazon\n\nWednesday\, February 26 2020\, 6:30pm - 8:00pm\n\nHoffman Estates Branch\, Meeting Room\n\n1500 Hassel Rd.\, Hoffman Estates\n\nThis SCORE presentation by Alan Sipe will provide the basics of getting started selling items on Amazon. Learn about the costs you will incur and how to get your product the attention it needs to be profitable. Pease register online (https://www.schaumburglibrary.org/\, click EVENTS) or call our Information Services Desk at 847-923-3347.
X-ALT-DESC;FMTTYPE=text/html:<span style="font-family:arial\,sans-serif"><span style="font-size:12.0pt">SCORE: Selling &amp\; Profiting with Amazon</span></span><br />\n<span style="font-family:arial\,sans-serif"><span style="font-size:12.0pt">Wednesday\, February 26 2020\, 6:30pm - 8:00pm</span></span><br />\n<span style="font-family:arial\,sans-serif"><span style="font-size:12.0pt">Hoffman Estates Branch\, Meeting Room<br />\n1500 Hassel Rd.\, Hoffman Estates</span></span><br />\n<span style="font-family:arial\,sans-serif"><span style="font-size:12.0pt">This SCORE presentation by Alan Sipe will provide the basics of getting started selling items on Amazon. Learn about the costs you will incur and how to get your product the attention it needs to be profitable. Pease register online (<a href="https://www.schaumburglibrary.org/">https://www.schaumburglibrary.org/</a>\, click EVENTS) or call our Information Services Desk at 847-923-3347.</span></span>
LOCATION:
UID:e.495.6742
SEQUENCE:3
DTSTAMP:20260422T135020Z
URL:https://members.hechamber.com/events/details/score-selling-profiting-with-amazon-6742
END:VEVENT

END:VCALENDAR
