BEGIN:VCALENDAR
VERSION:2.0
PRODID:-//ChamberMaster//Event Calendar 2.0//EN
METHOD:PUBLISH
X-PUBLISHED-TTL:P3D
REFRESH-INTERVAL:P3D
CALSCALE:GREGORIAN
BEGIN:VEVENT
DTSTART:20200312T230000Z
DTEND:20200313T000000Z
X-MICROSOFT-CDO-ALLDAYEVENT:FALSE
SUMMARY:Windy City Bulls Pre-Game Business Networking
DESCRIPTION:Join us before the Windy City Bulls basketball game to network with other local business professionals. Bring business cards to enter to win door prizes. After the networking event enjoy the Windy City Bulls game. \n\n\n\nCall Matt Marquez at 847-396-9312 to register today.
X-ALT-DESC;FMTTYPE=text/html:<br />\n<strong><span style="color:#B22222\;"><span style="font-size:16px\;">Join us before the Windy City Bulls basketball game to network with other local business professionals. Bring business cards to enter to win door prizes. After the networking event enjoy the Windy City Bulls game.&nbsp\;<br />\n<br />\nCall Matt Marquez at 847-396-9312 to register today.&nbsp\;</span></span></strong>
LOCATION:Sears Centre Arena- 5333 Prairie Stone Parkway Hoffman Estates\, IL 60192
UID:e.495.6985
SEQUENCE:3
DTSTAMP:20260422T120538Z
URL:https://members.hechamber.com/events/details/pre-game-business-networking-6985
END:VEVENT

END:VCALENDAR
