BEGIN:VCALENDAR
VERSION:2.0
PRODID:-//ChamberMaster//Event Calendar 2.0//EN
METHOD:PUBLISH
X-PUBLISHED-TTL:P3D
REFRESH-INTERVAL:P3D
CALSCALE:GREGORIAN
BEGIN:VEVENT
DTSTART:20181110T220000Z
DTEND:20181110T233000Z
X-MICROSOFT-CDO-ALLDAYEVENT:FALSE
SUMMARY:Power up your AbunDANCE with this fun and energetic event!
DESCRIPTION:Manifesting your desired outcomes is fun and effective when you get the MEMO - Moving Energy to Manifest Outcomes!\n\nWe'll use simple yet powerful techniques to power up our manifestation\, based on these truths:\n\n \n\n	We create and maintain by moving energy\n	Thoughts are electrical energy\, and can be harnessed to bring power to our lives\n	You can move more energy by adding motion and emotion to the process\n\n \n\nIn this fun 'Playshop\,' you'll experience:\n\n \n\n	Identifying and releasing blocks \n	Easy and effective energy techniques to power up your manifestation\n	Individual and group support\n\n \n\nAnd more!\n\n \n\n\n	We'll provide aromatherapy to help you release blocks and call in abundance\n\n \n\nBeginners welcome   No experience necessary!
X-ALT-DESC;FMTTYPE=text/html:<span style="font-size:14px">Manifesting your desired outcomes is fun and effective when you get the</span> <span style="color:#509A54"><span style="font-size:18.0pt">MEMO - Moving Energy to Manifest Outcomes!</span></span><br />\n<span style="font-size:14px">We&#39\;ll use simple yet&nbsp\;powerful techniques to power up our manifestation\, based on these truths:<br />\n&nbsp\;</span>\n<ul>\n	<li style="text-align: left\;"><span style="font-size:14px">We create and maintain by moving energy</span></li>\n	<li style="text-align: left\;"><span style="font-size:14px">Thoughts are electrical energy\, and can be harnessed to bring power to our lives</span></li>\n	<li style="text-align: left\;"><span style="font-size:14px">You can move more energy by adding motion and emotion to the process</span></li>\n</ul>\n<span style="font-size:14px">&nbsp\;<br />\nIn this fun &lsquo\;Playshop\,&rsquo\; you&rsquo\;ll experience:</span><br />\n&nbsp\;\n<ul>\n	<li style="text-align:left"><span style="font-size:14px">Identifying and releasing blocks </span></li>\n	<li style="text-align:left"><span style="font-size:14px">Easy and effective energy techniques to power up your manifestation</span></li>\n	<li style="text-align:left"><span style="font-size:14px">Individual and group support</span></li>\n</ul>\n<span style="font-size:14px">&nbsp\;<br />\nAnd more!<br />\n&nbsp\;</span>\n\n<ul>\n	<li style="text-align:left"><span style="font-size:14px">We&rsquo\;ll provide aromatherapy to help you release blocks and call in abundance</span></li>\n</ul>\n&nbsp\;<br />\n<span style="font-size:14px">Beginners welcome &ndash\; No experience necessary!</span><br />\n&nbsp\;<br />\n&nbsp\;
LOCATION:A Healing Soul\, Ltd. 555 W. Central Road Hoffman Estates\, IL 60192
UID:e.495.4835
SEQUENCE:3
DTSTAMP:20260424T233218Z
URL:https://members.hechamber.com/events/details/power-up-your-abundance-with-this-fun-and-energetic-event-4835
END:VEVENT

END:VCALENDAR
