BEGIN:VCALENDAR
VERSION:2.0
PRODID:-//ChamberMaster//Event Calendar 2.0//EN
METHOD:PUBLISH
X-PUBLISHED-TTL:P3D
REFRESH-INTERVAL:P3D
CALSCALE:GREGORIAN
BEGIN:VEVENT
DTSTART;VALUE=DATE:20200218
DTEND;VALUE=DATE:20200219
TRANSP:TRANSPARENT
X-MICROSOFT-CDO-ALLDAYEVENT:TRUE
SUMMARY:Open Feb 18 - Donor Registration for Palatine Township Easter Basket Program
DESCRIPTION:Donor Registration for the Palatine Township Easter Basket Program\n\nbegins February 18\, 2020!\n \n\nThis spring you can make a child smile by donating an Easter Basket!\n\n\n\nPalatine Township coordinates their annual program which provides Easter Baskets to financially disadvantaged children\, ages 10 years and younger in our community. We reach out to local churches\, businesses\, organizations\, and residents to donate baskets filled with edible treats and small toys. Last year we identified hundreds of children who were extremely grateful to be recipients in this program.\n\n\n\nStarting February 18\, register as a donor online at palatinetownship-il.gov/easter-basket-donor. If you register online\, we will send you an email with the recipient child's information. \n\n \n\nOr stop by Palatine Township Center\, 721 S. Quentin Road in Palatine and sign out a bunny\, chick or egg cut-out\, which will include a child's first name\, age\, gender and assigned number. \n\n \n\nRegistration will be open February 18 through March 23\, 2020 and baskets will be due on to the Township on April 3\, 2020.  Visit our website for details.\n\n \n\nIf preferred\, you can make a tax-deductible donation to the Needy Family Fund to benefit this program.  As with other outreach programs that occur on a yearly basis\, Palatine Township identifies local in-need families whose children are recipients of the Easter Basket Program.
X-ALT-DESC;FMTTYPE=text/html:<div style="text-align: center\;"><br />\n<span style="font-size:20px\;"><span style="color:#ff0099\;"><strong><span style="font-family:calibri\,sans-serif">Donor Registration for the Palatine Township Easter Basket Program<br />\nbegins February 18\, 2020!</span></strong></span></span></div>\n<span style="font-size:20px\;">&nbsp\;</span><br />\n<span style="color:#800080\;"><span style="font-size:16px\;">This spring you can make a child smile by donating an Easter Basket!<br />\n<br />\nPalatine Township coordinates their annual program which provides Easter Baskets to financially disadvantaged children\, ages 10 years and younger in our community. We reach out to local churches\, businesses\, organizations\, and residents to donate baskets filled with edible treats and small toys. Last year we identified hundreds of children who were extremely grateful to be recipients in this program.<br />\n<br />\n<span style="font-size:18px\;"><strong><span style="font-family:calibri\,sans-serif">Starting February 18\,</span></strong><span style="font-family:calibri\,sans-serif"> register as a donor online at <a href="http://palatinetownship-il.gov/easter-basket-donor">palatinetownship-il.gov/easter-basket-donor</a>. If you register online\, we will send you an email with the recipient child&rsquo\;s information. </span><br />\n&nbsp\;</span></span></span><br />\n<span style="font-size:18px\;"><span style="color:#ff0099\;"><span style="font-family:calibri\,sans-serif">Or stop by Palatine Township Center\, 721 S. Quentin Road in Palatine and sign out a bunny\, chick or egg cut-out\, which will include a child&rsquo\;s first name\, age\, gender and assigned number. </span></span><br />\n<span style="color:#800080\;">&nbsp\;<br />\n<span style="font-family:calibri\,sans-serif">Registration will be open February 18 through March 23\, 2020 and baskets will be due on to the Township on April 3\, 2020.&nbsp\; Visit our website for details.</span></span><br />\n&nbsp\;<br />\n<span style="color:#ff0099\;"><span style="font-family:calibri\,sans-serif">If preferred\, you can make a tax-deductible donation to the Needy Family Fund to benefit this program. &nbsp\;As with other outreach programs that occur on a yearly basis\, Palatine Township identifies local in-need families whose children are recipients of the Easter Basket Program.</span></span></span><br />\n&nbsp\;
LOCATION:Palatine Township Center 721 S. Quentin Road Palatine\, 60067
UID:e.495.6987
SEQUENCE:3
DTSTAMP:20260422T135339Z
URL:https://members.hechamber.com/events/details/open-feb-18-donor-registration-for-palatine-township-easter-basket-program-6987
END:VEVENT

END:VCALENDAR
