BEGIN:VCALENDAR
VERSION:2.0
PRODID:-//ChamberMaster//Event Calendar 2.0//EN
METHOD:PUBLISH
X-PUBLISHED-TTL:P3D
REFRESH-INTERVAL:P3D
CALSCALE:GREGORIAN
BEGIN:VEVENT
DTSTART:20200114T010000Z
DTEND:20200114T023000Z
X-MICROSOFT-CDO-ALLDAYEVENT:FALSE
SUMMARY:Online Reviews & Star Ratings
DESCRIPTION:Online Reviews & Star Ratings\n\nSchaumburg Township District Library (130 S. Roselle Rd.\, Schaumburg)\n\nMonday\, January 13 2020\, 7:00pm - 8:30pm\n\nCentral Library\, Rasmussen North ((A) Classroom)\n\nOnline reviews have become extremely important for customer and prospects. SCORE presenter Norbert Barszczewski will analyze best practices and ways to maximize your online ratings. We will discuss online reputation management as integral part of your existing marketing plan. Please register online (https://www.schaumburglibrary.org/\, click EVENTS) or call our Information Services Desk at 847-923-3347.
X-ALT-DESC;FMTTYPE=text/html:<span style="font-family:arial\,sans-serif"><span style="font-size:12.0pt">Online Reviews &amp\; Star Ratings<br />\nSchaumburg Township District Library (130 S. Roselle Rd.\, Schaumburg)</span></span><br />\n<span style="font-family:arial\,sans-serif"><span style="font-size:12.0pt">Monday\, January 13 2020\, 7:00pm - 8:30pm</span></span><br />\n<span style="font-family:arial\,sans-serif"><span style="font-size:12.0pt">Central Library\, Rasmussen North ((A) Classroom)</span></span><br />\n<span style="font-family:arial\,sans-serif"><span style="font-size:12.0pt">Online reviews have become extremely important for customer and prospects. SCORE presenter Norbert Barszczewski will analyze best practices and ways to maximize your online ratings. We will discuss online reputation management as integral part of your existing marketing plan. Please register online (<a href="https://www.schaumburglibrary.org/">https://www.schaumburglibrary.org/</a>\, click EVENTS) or call our Information Services Desk at 847-923-3347.</span></span><br />\n&nbsp\;<br />\n&nbsp\;
LOCATION:Online Reviews & Star Ratings Schaumburg Township District Library (130 S. Roselle Rd.\, Schaumburg) Monday\, January 13 2020\, 7:00pm - 8:30pm Central Library\, Rasmussen North ((A) Classroom) Online reviews have become extremely important for customer and prospects. SCORE presenter Norbert Barszczewski will analyze best practices and ways to maximize your online ratings. We will discuss online reputation management as integral part of your existing marketing plan. Please register online (https://www.schaumburglibrary.org/\, click EVENTS) or call our Information Services Desk at 847-923-3347.
UID:e.495.6737
SEQUENCE:3
DTSTAMP:20260422T153346Z
URL:https://members.hechamber.com/events/details/online-reviews-star-ratings-6737
END:VEVENT

END:VCALENDAR
