BEGIN:VCALENDAR
VERSION:2.0
PRODID:-//ChamberMaster//Event Calendar 2.0//EN
METHOD:PUBLISH
X-PUBLISHED-TTL:P3D
REFRESH-INTERVAL:P3D
CALSCALE:GREGORIAN
BEGIN:VEVENT
DTSTART:20200930T230000Z
DTEND:20201001T003000Z
X-MICROSOFT-CDO-ALLDAYEVENT:FALSE
SUMMARY:NIU Business Wednesday Night Wisdom: Protecting Yourself and Your Organization from Cybercrime
DESCRIPTION:Smartphones\, laptops\, internet-connected doorbells and cars all are part of our digital lives and are vulnerable to cyberattacks.  Learn how to protect yourself and your organization from cybercrime.  The next NIU College of Business Wednesday Night Wisdom online speaker event is from 6 to 7:30 p.m. Wednesday\, Sept. 30.  All are welcome to register for free at go.niu.edu/wnw. \n\n\n\nOur panelist are NIU College of Business alumni and experts in cybersecurity:\n\nJoe Granneman\, MBA '11\, CEO and principal consultant of Illumination Cybersecurity Consulting\, will kick off this Wednesday Night Wisdom panel discussion by showing how susceptible we are to cyberattacks and how we can prevent them.\n\n\n\nArvin Verma\, OMIS '11\, InfraGard Chicago IT sector chief\, INMA IT sector SME and fellow at the Cybersecurity Forum Initiative\, will describe social media's role in manipulating our behavior for societal change and for access to our personal information.  He will share ways we can protect ourselves online.\n\n\n\nMary Frantz\, OMIS '91\, managing partner at Enterprise Knowledge Partners LLC\, will provide insight into the future of cybersecurity including new threats\, new ways we can protect ourselves and the cybersecurity job market.
X-ALT-DESC;FMTTYPE=text/html:<span style="font-size:16px\;">Smartphones\, laptops\, internet-connected doorbells and cars all are part of our digital lives and are vulnerable to cyberattacks.&nbsp\; Learn how to protect yourself and your organization from cybercrime.&nbsp\; The next NIU College of Business Wednesday Night Wisdom online speaker event is from 6 to 7:30 p.m. Wednesday\, Sept. 30.&nbsp\; All are welcome to register for free at go.niu.edu/wnw.&nbsp\;<br />\n<br />\nOur panelist are NIU College of Business alumni and experts in cybersecurity:<br />\nJoe Granneman\, MBA &#39\;11\, CEO and principal consultant of Illumination Cybersecurity Consulting\, will kick off this Wednesday Night Wisdom panel discussion by showing how susceptible we are to cyberattacks and how we can prevent them.<br />\n<br />\nArvin Verma\, OMIS &#39\;11\, InfraGard Chicago IT sector chief\, INMA IT sector SME and fellow at the Cybersecurity Forum Initiative\, will describe social media&#39\;s role in manipulating our behavior for societal change and for access to our personal information.&nbsp\; He will share ways we can protect ourselves online.<br />\n<br />\nMary Frantz\, OMIS &#39\;91\, managing partner at Enterprise Knowledge Partners LLC\, will provide insight into the future of cybersecurity including new threats\, new ways we can protect ourselves and the cybersecurity job market.</span>
LOCATION:Virtual event hosted via MS Teams
UID:e.495.7068
SEQUENCE:3
DTSTAMP:20260422T023042Z
URL:https://members.hechamber.com/events/details/niu-business-wednesday-night-wisdom-protecting-yourself-and-your-organization-from-cybercrime-7068
END:VEVENT

END:VCALENDAR
