BEGIN:VCALENDAR
VERSION:2.0
PRODID:-//ChamberMaster//Event Calendar 2.0//EN
METHOD:PUBLISH
X-PUBLISHED-TTL:P3D
REFRESH-INTERVAL:P3D
CALSCALE:GREGORIAN
BEGIN:VEVENT
DTSTART:20201021T230000Z
DTEND:20201022T003000Z
X-MICROSOFT-CDO-ALLDAYEVENT:FALSE
SUMMARY:NIU Business Wednesday Night Wisdom: Build Your Career and Business in the Face of Adversity
DESCRIPTION:Maintaining success of your career and business is hard enough. Layer on top of that struggles associated with the pandemic. Two College of Business alumnae will share how they fearlessly strengthen their careers and businesses in the face of adversity. The next NIU College of Business Wednesday Night Wisdom online speaker event is 6 to 7:30 p.m.\, Wednesday\, Oct. 21. All are welcome to register for free (go.niu.edu/wnw). Learn how to make your personal and professional dreams a reality by overcoming odds and opposition.\n\nOur panelists are NIU College of Business alumnae who will share their entrepreneurial journeys through the pandemic and in the developing world.\n\n\n\nChloe Millard\, MKRT '12 --  Founder. Owner. Entrepreneur. Investor. Millard is the CEO and founder of Rose & Jade CBD for Women\, the first-ever line of premium CBD products formulated specifically for mothers and women.\n\n \n\nDiana Narv ez\, ACCY '07 -- Innovator. Business developer. Impact investor. Social entrepreneur. Management consultant. Narv ez helps companies partner with e-commerce\, logistics\, brands\, fintech\, and logistics\, across eight Latin American countries and underserved populations.\n\n \n\nLearn how to navigate road blocks and beat the odds to having a successful career and business. Come away with many personal and professional tips to make the most of your dreams.
X-ALT-DESC;FMTTYPE=text/html:<span style="font-size:16px\;"><span style="color:black"><span style="font-family:calibri\,sans-serif">&mdash\; </span></span><span style="color:black"><span style="font-family:calibri\,sans-serif">Maintaining success of your career and business is hard enough. Layer on top of that struggles associated with the pandemic. Two College of Business alumnae will share how they fearlessly strengthen their careers and businesses in the face of adversity. The next NIU College of Business <em>Wednesday Night Wisdom </em>online speaker event is 6 to 7:30 p.m.\, Wednesday\, Oct. 21. </span></span><span style="color:black"><span style="font-family:calibri\,sans-serif">All are welcome </span></span><span style="color:black"><span style="font-family:calibri\,sans-serif">to </span></span><span style="color:black"><a href="file:///C:/Users/c10mjm1/AppData/Local/Microsoft/Windows/INetCache/Content.Outlook/YKABE31I/go.niu.edu/wnw"><span style="color:black"><span style="font-family:calibri\,sans-serif">register</span></span></a></span><span style="color:black"><span style="font-family:calibri\,sans-serif"> for free (</span></span><span style="color:black"><a href="http://go.niu.edu/wnw"><strong><span style="color:#C00000"><span style="font-family:calibri\,sans-serif">go.niu.edu/wnw</span></span></strong></a></span><span style="color:black"><span style="font-family:calibri\,sans-serif">). </span></span><span style="color:black"><span style="font-family:calibri\,sans-serif">Learn how to make your personal and professional dreams a reality by overcoming odds and opposition.</span></span><br />\n<span style="color:black"><span style="font-family:calibri\,sans-serif">Our panelists are NIU College of Business alumnae who will share their entrepreneurial journeys through the pandemic and in the developing world.</span></span><br />\n<br />\n<strong><span style="color:#050202"><span style="font-family:calibri\,sans-serif">Chloe Millard\, </span></span></strong><span style="color:#050202"><span style="font-family:calibri\,sans-serif">MKRT &rsquo\;12 -- &nbsp\;Founder. Owner. Entrepreneur. Investor. Millard is the </span></span><span style="color:black"><span style="font-family:calibri\,sans-serif">CEO and founder of <em>Rose &amp\; Jade CBD for Women</em>\, the first-ever line of premium CBD products formulated specifically for mothers and women.</span></span><br />\n&nbsp\;<br />\n<strong><span style="color:#050202"><span style="font-family:calibri\,sans-serif">Diana Narv&aacute\;ez\, </span></span></strong><span style="color:#050202"><span style="font-family:calibri\,sans-serif">ACCY &rsquo\;07 -- Innovator. Business developer. Impact investor. Social entrepreneur. Management consultant. Narv&aacute\;ez </span></span><span style="color:black"><span style="font-family:calibri\,sans-serif">helps companies partner with e-commerce\, logistics\, brands\, fintech\, and logistics\, across eight Latin American countries and underserved populations.</span></span><br />\n&nbsp\;<br />\n<span style="color:black">Learn how to navigate road blocks and beat the odds to having a successful career and business. Come away with many personal and professional tips to make the most of your dreams. </span></span>
LOCATION:MS Teams. A link will be provided at registration.
UID:e.495.7079
SEQUENCE:3
DTSTAMP:20260422T023048Z
URL:https://members.hechamber.com/events/details/niu-business-wednesday-night-wisdom-build-your-career-and-business-in-the-face-of-adversity-7079
END:VEVENT

END:VCALENDAR
