BEGIN:VCALENDAR
VERSION:2.0
PRODID:-//ChamberMaster//Event Calendar 2.0//EN
METHOD:PUBLISH
X-PUBLISHED-TTL:P3D
REFRESH-INTERVAL:P3D
CALSCALE:GREGORIAN
BEGIN:VEVENT
DTSTART:20190709T203000Z
DTEND:20190709T213000Z
X-MICROSOFT-CDO-ALLDAYEVENT:FALSE
SUMMARY:Membership Committee Meeting
DESCRIPTION:Membership Committee Meeting\n\n\n\nChaired by Kevin Kramer
X-ALT-DESC;FMTTYPE=text/html:<br />\n<span style="color:#A52A2A\;"><strong><span style="font-size: 16px\;"><span style="font-family: arial\;"><span style="font-size:18px\;">Membership Committee Meeting</span><br />\n<br />\nChaired by Kevin Kramer</span></span></strong></span><br />\n<br />\n&nbsp\;
LOCATION:Hideway Brew Garden and Bar 5510 Prairie Stone Pkwy.\, (at the Village Green) Hoffman Estates (If it is raining at the time of the Membership meeting\, location will change to Buona Beef.)
UID:e.495.5373
SEQUENCE:3
DTSTAMP:20260424T122030Z
URL:https://members.hechamber.com/events/details/membership-committee-meeting-5373
END:VEVENT

END:VCALENDAR
