BEGIN:VCALENDAR
VERSION:2.0
PRODID:-//ChamberMaster//Event Calendar 2.0//EN
METHOD:PUBLISH
X-PUBLISHED-TTL:P3D
REFRESH-INTERVAL:P3D
CALSCALE:GREGORIAN
BEGIN:VEVENT
DTSTART:20190611T203000Z
DTEND:20190611T213000Z
X-MICROSOFT-CDO-ALLDAYEVENT:FALSE
SUMMARY:Membership Committee Meeting
DESCRIPTION:Membership Committee Meeting\n\n\n\nChaired by Keith Evans
X-ALT-DESC;FMTTYPE=text/html:<br />\n<span style="color:#A52A2A\;"><strong><span style="font-size: 16px\;"><span style="font-family: arial\;"><span style="font-size:18px\;">Membership Committee Meeting</span><br />\n<br />\nChaired by Keith Evans</span></span></strong></span><br />\n<br />\n&nbsp\;
LOCATION:Hugs & Mugs Cafe (GiGi's Playhouse) 2350 W. Higgins Road Hoffman Estates
UID:e.495.5021
SEQUENCE:3
DTSTAMP:20260424T133548Z
URL:https://members.hechamber.com/events/details/membership-committee-meeting-5021
END:VEVENT

END:VCALENDAR
