BEGIN:VCALENDAR
VERSION:2.0
PRODID:-//ChamberMaster//Event Calendar 2.0//EN
METHOD:PUBLISH
X-PUBLISHED-TTL:P3D
REFRESH-INTERVAL:P3D
CALSCALE:GREGORIAN
BEGIN:VEVENT
DTSTART:20190713T193000Z
DTEND:20190713T203000Z
X-MICROSOFT-CDO-ALLDAYEVENT:FALSE
SUMMARY:Meditation class
DESCRIPTION:Looking for some inner peace?\n\n\n\nCome join us for this short and sweet meditation class\, for beginners through experienced meditators.  Meditating in a group setting makes it easier and more fun.\n\n\n\nWe will gather our energies with aromatherapy\, release stress with an easy exercise\, and still our minds with a guided visualization then have a short silent meditation time.
X-ALT-DESC;FMTTYPE=text/html:<span style="color:#4B0082\;"><span style="font-size:18px\;"><strong>Looking for some inner peace?</strong></span></span><br />\n<br />\n<span style="color:#800080\;"><span style="font-size:16px\;">Come join us for this short and sweet meditation class\, for beginners through experienced meditators.&nbsp\; Meditating in a group setting makes it easier and more fun.<br />\n<br />\nWe will gather our energies with aromatherapy\, release stress with an easy exercise\, and still our minds with a guided visualization then have a short silent meditation time.</span></span>
LOCATION:The Arboretum of South Barrington Higgins and Rte. 59 in the 'Live 360' community room\, which is Unit L-1 (adjacent to Georgio's Pizzeria).
UID:e.495.5606
SEQUENCE:3
DTSTAMP:20260424T105204Z
URL:https://members.hechamber.com/events/details/meditation-class-5606
END:VEVENT

END:VCALENDAR
