BEGIN:VCALENDAR
VERSION:2.0
PRODID:-//ChamberMaster//Event Calendar 2.0//EN
METHOD:PUBLISH
X-PUBLISHED-TTL:P3D
REFRESH-INTERVAL:P3D
CALSCALE:GREGORIAN
BEGIN:VEVENT
DTSTART:20191115T000000Z
DTEND:20191115T013000Z
X-MICROSOFT-CDO-ALLDAYEVENT:FALSE
SUMMARY:Medicare 2020 Information Night
DESCRIPTION:Learn about upcoming changes to the Medicare program for 2020 in a detailed presentation followed by a question and answer session.  Refreshments provided.
X-ALT-DESC;FMTTYPE=text/html:<br />\n<span style="font-size:18px\;">Learn about upcoming changes to the Medicare program for 2020 in a detailed presentation followed by a question and answer session.&nbsp\; Refreshments provided.</span>
LOCATION:Charter Senior Living of Poplar Creek 2150 W Golf Road Hoffman Estates\, IL 60169 847.755.0735
UID:e.495.5695
SEQUENCE:3
DTSTAMP:20260422T183434Z
URL:https://members.hechamber.com/events/details/medicare-2020-information-night-5695
END:VEVENT

END:VCALENDAR
