BEGIN:VCALENDAR
VERSION:2.0
PRODID:-//ChamberMaster//Event Calendar 2.0//EN
METHOD:PUBLISH
X-PUBLISHED-TTL:P3D
REFRESH-INTERVAL:P3D
CALSCALE:GREGORIAN
BEGIN:VEVENT
DTSTART:20210101T010000Z
DTEND:20210101T020000Z
X-MICROSOFT-CDO-ALLDAYEVENT:FALSE
SUMMARY:Main Event New Year's Virtual Party
DESCRIPTION:Let Main Event bring the FUN to YOU!\n\n\n\nCelebrate the New Year with a FUN experience with your family and friends\, oh yes\, and others from all around the world!  This is going to be HUGE! Chance to win $500 Grand Prize Gift Card\, or $250 Virtual Party!\n\n\n\nEither way it's a win\, family time is priceless!  Now on sale only $10!
X-ALT-DESC;FMTTYPE=text/html:<span style="font-size:20px"><span style="font-family:comic sans ms"><strong><span style="color:#000080">Let Main Event bring the</span><span style="color:#ff0066"> FUN </span><span style="color:#000080">to YOU!</span></strong></span></span><br />\n<br />\n<span style="font-size:18px"><span style="font-family:comic sans ms"><span style="color:#333333">Celebrate the New Year with a </span><strong><span style="color:#ff0066">FUN</span></strong><span style="color:#333333"> experience with your family and friends\, oh yes\, and others from all around the world!&nbsp\; This is going to be </span><strong><span style="color:#ff0066">HUGE</span></strong><span style="color:#333333">! </span><strong><span style="color:#336666">Chance to win $500 Grand Prize Gift Card\, or $250 Virtual Party!</span></strong><br />\n<br />\n<span style="color:#333333">Either way it&#39\;s a win\, family time is priceless!&nbsp\; Now on sale only $10!</span></span></span>
LOCATION:Wherever you are! It's Virtual!
UID:e.495.7100
SEQUENCE:3
DTSTAMP:20260421T213237Z
URL:https://members.hechamber.com/events/details/main-event-new-year-s-virtual-party-7100
END:VEVENT

END:VCALENDAR
