BEGIN:VCALENDAR
VERSION:2.0
PRODID:-//ChamberMaster//Event Calendar 2.0//EN
METHOD:PUBLISH
X-PUBLISHED-TTL:P3D
REFRESH-INTERVAL:P3D
CALSCALE:GREGORIAN
BEGIN:VEVENT
DTSTART:20190927T223000Z
DTEND:20190928T050000Z
X-MICROSOFT-CDO-ALLDAYEVENT:FALSE
SUMMARY:Little City Poker Tournament & Casino Night
DESCRIPTION:Join Little City for the hottest Texas Hold'Em Tournament and casino games in Chicago\, while supporting children and adults with autism and other intellectual and developmental disabilities. Grand Champion Prize: A Seat at the World Series of Poker Other prizes: 4 day - 3 night trip to Caesar's Palace in Las Vegas Autographed Cubs memorabilia Hotel overnights Restaurant certificates and much more
X-ALT-DESC;FMTTYPE=text/html:<strong><span style="color:#B22222\;"><span style="font-size:16px\;">Join Little City for the hottest Texas Hold&#39\;Em Tournament and casino games in Chicago\, while supporting children and adults with autism and other intellectual and developmental disabilities. Grand Champion Prize: A Seat at the World Series of Poker Other prizes: 4 day - 3 night trip to Caesar&#39\;s Palace in Las Vegas Autographed Cubs memorabilia Hotel overnights Restaurant certificates and much more</span></span></strong>
LOCATION:The Chicago Sports Museum 7th Floor Water Tower Place 835 N. Michigan Avenue Chicago\, IL
UID:e.495.5623
SEQUENCE:3
DTSTAMP:20260422T232508Z
URL:https://members.hechamber.com/events/details/little-city-poker-tournament-casino-night-5623
END:VEVENT

END:VCALENDAR
