BEGIN:VCALENDAR
VERSION:2.0
PRODID:-//ChamberMaster//Event Calendar 2.0//EN
METHOD:PUBLISH
X-PUBLISHED-TTL:P3D
REFRESH-INTERVAL:P3D
CALSCALE:GREGORIAN
BEGIN:VEVENT
DTSTART:20200126T000000Z
DTEND:20200126T030000Z
X-MICROSOFT-CDO-ALLDAYEVENT:FALSE
SUMMARY:Lions Club Fundraiser for the Lions of IL Foundation at WCB Game!
DESCRIPTION:Our Lions Club invites Hoffman Estates Chamber members\, family and friends out to a Windy City Bulls Basketball Game at the Sears Centre Arena! A portion of each ticket will go to the Lions of Illinois Foundation.\n\n\n\nAt the game there will be a pre-game services project making cards for the organization\, Phil's Friends\, and there will be mascots to take pictures with as it is Gus T. Bull's Birthday!\n\n\n\nDoors Open at 6:00 PM for a Gus T. Bull Bobblehead Giveaway\n\nThe bobble is the mascot's hand signing "Bull"\n\n\n\nGame Tips off at 7PM VS the Grand Rapids NBA G League Affiliate of the Drive Detroit Pistons\n\n\n\nTICKET LINK: https://fevo.me/lionsclub_jan25
X-ALT-DESC;FMTTYPE=text/html:<p><span style="font-size:12px"><span style="font-family:arial\,helvetica\,sans-serif"><span style="font-size:18px\;">Our Lions Club invites Hoffman Estates Chamber members\, family and friends&nbsp\;<span style="color:rgb(29\, 33\, 41)">out to a </span><strong><span style="color:#B22222\;">Windy City Bulls Basketball Game </span></strong><span style="color:rgb(29\, 33\, 41)">at the Sears Centre Arena! A portion of each ticket will go to the <a href="https://www.lionsofillinoisfoundation.org/">Lions of Illinois Foundation</a>.</span><br />\n<br />\n<span style="color:rgb(29\, 33\, 41)">At the game there will be a pre-game services project making cards for the organization\, <a href="https://philsfriends.org/">Phil&rsquo\;s Friends</a>\, and there will be mascots to take pictures with as it is Gus T. Bull&rsquo\;s Birthday!</span><br />\n<br />\n<span style="color:rgb(29\, 33\, 41)">Doors Open at 6:00 PM for a Gus T. Bull Bobblehead Giveaway</span><br />\n<span style="color:rgb(29\, 33\, 41)">The bobble is the mascot&#39\;s hand signing &quot\;Bull&quot\;</span></span><br />\n<br />\n<span style="font-size:16px\;"><span style="color:rgb(29\, 33\, 41)">Game Tips off at 7PM VS the </span></span></span></span><span style="font-size:16px\;"><span style="color: rgb(29\, 33\, 41)\; font-family: arial\, helvetica\, sans-serif\;">Grand Rapids NBA G League Affiliate of the&nbsp\;Drive&nbsp\;</span></span><span style="font-size:12px"><span style="font-family:arial\,helvetica\,sans-serif"><span style="font-size:16px\;"><span style="color:rgb(29\, 33\, 41)">Detroit Pistons</span></span><br />\n<br />\n<span style="font-size:16px\;"><span style="color:#B22222\;"><strong>TICKET LINK:</strong></span><span style="color:rgb(29\, 33\, 41)"> </span><a href="https://fevo.me/lionsclub_jan25?fbclid=IwAR0nVXl30rPTI98gjav-AUGn2f8T33VivQcsT2Ef0Xg9_hfTWxvbU3aywgU" rel="nofollow noopener" style="color: rgb(56\, 88\, 152)\; cursor: pointer\; text-decoration-line: none\; font-family: Helvetica\, Arial\, sans-serif\; font-size: 14px\; white-space: pre-wrap\;" target="_blank">https://fevo.me/lionsclub_jan25</a></span></span></span></p>\n
LOCATION:Sears Centre Arena 5333 Prairie Stone Parkway Hoffman Estates\, IL 60192
UID:e.495.6727
SEQUENCE:3
DTSTAMP:20260422T154421Z
URL:https://members.hechamber.com/events/details/lions-club-fundraiser-for-the-lions-of-il-foundation-at-wcb-game-6727
END:VEVENT

END:VCALENDAR
