BEGIN:VCALENDAR
VERSION:2.0
PRODID:-//ChamberMaster//Event Calendar 2.0//EN
METHOD:PUBLISH
X-PUBLISHED-TTL:P3D
REFRESH-INTERVAL:P3D
CALSCALE:GREGORIAN
BEGIN:VEVENT
DTSTART:20200229T143000Z
DTEND:20200229T223000Z
X-MICROSOFT-CDO-ALLDAYEVENT:FALSE
SUMMARY:Lean Six Sigma Certification from NIU College of Engineering
DESCRIPTION:Learn from the best! A certificate in Lean Six Sigma prepares you to eliminate waste or inefficiency in your workplace.  If you are a professional working in a hospital\, a manufacturing facility\, or any service industry\, a certificate in Lean Six Sigma gives you the tools to undertake continuous improvement projects to reduce and eliminate waste\, prevent project variations\, improve customer satisfaction\, and increase your organization?s bottom line.\n\n\n\nThe Yellow/Green belt courses are combined. Once you earn your Yellow/Green belt\, you can take the Black Belt course.
X-ALT-DESC;FMTTYPE=text/html:Learn from the best!&nbsp\;<span style="color:rgb(88\, 89\, 90)\; font-family:gotham ssm a\,gotham ssm b\; font-size:14.6667px">A certificate in Lean Six Sigma prepares you to eliminate waste or inefficiency in your workplace.&nbsp\; If you are a professional working in a hospital\, a manufacturing facility\, or any service industry\, a certificate in Lean Six Sigma gives you the tools to undertake continuous improvement projects to reduce and eliminate waste\, prevent project variations\, improve customer satisfaction\, and increase your organization?s bottom line.<br />\n<br />\nThe Yellow/Green belt courses are combined. Once you earn your Yellow/Green belt\, you can take the Black Belt course.&nbsp\;</span>
LOCATION:NIU Hoffman Estates Campus 5555 Trillium Blvd\, Hoffman Estates
UID:e.495.6757
SEQUENCE:3
DTSTAMP:20260422T135344Z
URL:https://members.hechamber.com/events/details/lean-six-sigma-certification-from-niu-college-of-engineering-6757
END:VEVENT

END:VCALENDAR
