BEGIN:VCALENDAR
VERSION:2.0
PRODID:-//ChamberMaster//Event Calendar 2.0//EN
METHOD:PUBLISH
X-PUBLISHED-TTL:P3D
REFRESH-INTERVAL:P3D
CALSCALE:GREGORIAN
BEGIN:VEVENT
DTSTART:20251118T220000Z
DTEND:20251119T010000Z
X-MICROSOFT-CDO-ALLDAYEVENT:FALSE
SUMMARY:Ladies Night at Jewelry & Coin Mart
DESCRIPTION:ONE NIGHT ONLY! FREE LADIES NIGHT GIFT BAG\n\n\n\nTake 20% off your first item\, 30% off your second and 50% off your third!\n\n\n\nHoliday Shopping Made Easy!
X-ALT-DESC;FMTTYPE=text/html:<strong>ONE NIGHT ONLY!</strong>&nbsp\;FREE LADIES NIGHT GIFT BAG<br />\n<br />\nTake&nbsp\;<strong>20%</strong>&nbsp\;off your first item\,&nbsp\;<strong>30%</strong>&nbsp\;off your second and&nbsp\;<strong>50%</strong>&nbsp\;off your third!<br />\n<br />\nHoliday Shopping Made Easy!
LOCATION:757 W Golf Road\, Schaumburg\, IL 60194
UID:e.495.9472
SEQUENCE:3
DTSTAMP:20260424T110540Z
URL:https://members.hechamber.com/events/details/ladies-night-at-jewelry-coin-mart-9472
END:VEVENT

END:VCALENDAR
