BEGIN:VCALENDAR
VERSION:2.0
PRODID:-//ChamberMaster//Event Calendar 2.0//EN
METHOD:PUBLISH
X-PUBLISHED-TTL:P3D
REFRESH-INTERVAL:P3D
CALSCALE:GREGORIAN
BEGIN:VEVENT
DTSTART:20190706T170000Z
DTEND:20190706T210000Z
X-MICROSOFT-CDO-ALLDAYEVENT:FALSE
SUMMARY:Kids Mini Expo at Main Event Hoffman Estates
DESCRIPTION:COME AND JOIN THE FUN AT MAIN EVENT AT OUR 2ND ANNUAL KID'S EXPO!\n\n\n\nWE WILL HAVE PLENTY OF KIDS VENDORS FROM OUR COMMUNITY\, FUN GIVEAWAYS\, LOTS OF FUN\, AND MORE!\n\n\n\nBRING THIS FLYER TO THE KIDS EXPO REGISTRATION TABLE TO REDEEM A FREE $25 FUNCARD OR RSVP ON EVENT BRITE!\n\nLIMIT ONE FUNCARD PER PERSON W/ FLYER.\n\n\n\nRSVP ON EVENTBRITE INVITATION!
X-ALT-DESC;FMTTYPE=text/html:<p><strong><span style="color:#000080\;"><span style="font-size:18px\;"><span style="font-family:comic sans ms">COME AND JOIN THE FUN AT MAIN EVENT AT OUR 2ND ANNUAL KID&rsquo\;S EXPO!<br />\n<br />\nWE WILL HAVE PLENTY OF KIDS VENDORS FROM OUR COMMUNITY\, FUN GIVEAWAYS\, LOTS OF FUN\, AND MORE!<br />\n<br />\nBRING THIS FLYER TO THE KIDS EXPO REGISTRATION TABLE TO REDEEM A FREE $25 FUNCARD OR RSVP ON EVENT BRITE!<br />\nLIMIT ONE FUNCARD PER PERSON W/ FLYER.<br />\n<br />\nRSVP ON EVENTBRITE INVITATION!</span></span></span></strong></p>\n\n<p><span style="font-size:12pt">&nbsp\;</span></p>\n
LOCATION:Main Event Hoffman Estates 2575 Pratum Ave\, Hoffman Estates\, IL 60192 -right across from the Sears Centre Arena\, and right next to Cabelas-
UID:e.495.5590
SEQUENCE:3
DTSTAMP:20260424T105520Z
URL:https://members.hechamber.com/events/details/kids-mini-expo-at-main-event-hoffman-estates-07-06-2019-5590
END:VEVENT

END:VCALENDAR
