BEGIN:VCALENDAR
VERSION:2.0
PRODID:-//ChamberMaster//Event Calendar 2.0//EN
METHOD:PUBLISH
X-PUBLISHED-TTL:P3D
REFRESH-INTERVAL:P3D
CALSCALE:GREGORIAN
BEGIN:VEVENT
DTSTART:20181127T010000Z
DTEND:20181127T030000Z
X-MICROSOFT-CDO-ALLDAYEVENT:FALSE
SUMMARY:Interviewing Skills
DESCRIPTION:Presenter Bob Schlacks will highlight the characteristic "soft skills" companies are really looking for\, what to do before\, during and after an interview\, and the importance of appearance\, punctuality and non-verbal communication as job seekers prepare to meet hiring managers.
X-ALT-DESC;FMTTYPE=text/html:<br />\n<span style="font-size:16px\;"><strong><span style="font-family:arial\;">Presenter Bob Schlacks will highlight the characteristic &ldquo\;soft skills&rdquo\; companies are really looking for\, what to do before\, during and after an interview\, and the importance of appearance\, punctuality and non-verbal communication as job seekers prepare to meet hiring managers.</span></strong></span>
LOCATION:Schaumburg Township District Library 130 S. Roselle Rd. Schaumburg IL 60193
UID:e.495.4833
SEQUENCE:3
DTSTAMP:20260424T215705Z
URL:https://members.hechamber.com/events/details/interviewing-skills-4833
END:VEVENT

END:VCALENDAR
