BEGIN:VCALENDAR
VERSION:2.0
PRODID:-//ChamberMaster//Event Calendar 2.0//EN
METHOD:PUBLISH
X-PUBLISHED-TTL:P3D
REFRESH-INTERVAL:P3D
CALSCALE:GREGORIAN
BEGIN:VEVENT
DTSTART:20181113T010000Z
DTEND:20181113T023000Z
X-MICROSOFT-CDO-ALLDAYEVENT:FALSE
SUMMARY:I Graduated with Student Loans. Now What?
DESCRIPTION:Karen Chan of Karen Chan Financial Education & Consulting\, LLC will show you how to determine the types of loans you have\, their rules and repayment options\, along with the advantages and disadvantages of consolidating or handling a defaulted loan.
X-ALT-DESC;FMTTYPE=text/html:<br />\n<span style="font-family:verdana\;"><strong><span style="font-size:16px\;">Karen Chan of Karen Chan Financial Education&nbsp\;&amp\; Consulting\, LLC will show you how to determine&nbsp\;the types of loans you have\, their rules and&nbsp\;repayment options\, along with the advantages&nbsp\;and disadvantages of consolidating or handling a&nbsp\;defaulted loan.</span></strong></span>
LOCATION:Schaumburg Township District Library 130 S. Roselle Rd. Schaumburg\, IL 60093
UID:e.495.4832
SEQUENCE:3
DTSTAMP:20260424T220047Z
URL:https://members.hechamber.com/events/details/i-graduated-with-student-loans-now-what-4832
END:VEVENT

END:VCALENDAR
