BEGIN:VCALENDAR
VERSION:2.0
PRODID:-//ChamberMaster//Event Calendar 2.0//EN
METHOD:PUBLISH
X-PUBLISHED-TTL:P3D
REFRESH-INTERVAL:P3D
CALSCALE:GREGORIAN
BEGIN:VEVENT
DTSTART:20210313T233000Z
DTEND:20210314T010000Z
X-MICROSOFT-CDO-ALLDAYEVENT:FALSE
SUMMARY:HONORING OUR COMMUNITY HEROES
DESCRIPTION:Virtual Gala and Online Auction. WIN $10\,000 - $2\,500 - $1\,500 - $1\,000 or $500.\n\n\n\nBuy Tickets @ www.scHEROtary.org.\n\n$ 25 Event Ticket\n\n$100 Event Ticket with Grand Prize Drawing Ticket
X-ALT-DESC;FMTTYPE=text/html:<div><span style="font-size:16px\;"><span style="color:#008080\;"><strong>Virtual Gala and Online Auction. WIN $10\,000 - $2\,500 - $1\,500 - $1\,000 or $500.</strong></span><br />\n<br />\nBuy Tickets @ <a href="http://www.scherotary.org">www.scHEROtary.org</a>.</span></div>\n\n<div><span style="font-size:16px\;">$ 25 Event Ticket</span></div>\n\n<div><span style="font-size:16px\;">$100 Event Ticket with Grand Prize Drawing Ticket</span></div>\n
LOCATION:Rotary Virtual Event\; link will be provided to all ticket holders. Register at www.scHEROtary.org
UID:e.495.7135
SEQUENCE:3
DTSTAMP:20260421T180314Z
URL:https://members.hechamber.com/events/details/honoring-our-community-heroes-7135
END:VEVENT

END:VCALENDAR
