BEGIN:VCALENDAR
VERSION:2.0
PRODID:-//ChamberMaster//Event Calendar 2.0//EN
METHOD:PUBLISH
X-PUBLISHED-TTL:P3D
REFRESH-INTERVAL:P3D
CALSCALE:GREGORIAN
BEGIN:VEVENT
DTSTART:20190319T000000Z
DTEND:20190319T013000Z
X-MICROSOFT-CDO-ALLDAYEVENT:FALSE
SUMMARY:Home Buying & Selling
DESCRIPTION:Get a realistic view of the current real estate market in the northwest suburbs. Real Estate experts Linda Dressler and Gene Walters discuss topics such as the state of the market\, getting the most bang for your buck\, credit scores\, down payments and investments.
X-ALT-DESC;FMTTYPE=text/html:<p><br />\n<span style="color:#4B0082\;"><span style="font-size:18px\;"><span style="font-family:comic sans ms\;">Get a realistic view of the current real estate market in the northwest suburbs. Real Estate experts Linda Dressler and Gene Walters discuss topics such as the state of the market\, getting the most bang for your buck\, credit scores\, down payments and investments.</span></span></span></p>\n
LOCATION:The Schaumburg District Library - Central Library Rasmussen Room 130 S. Roselle Rd. Schaumburg\, IL 60193
UID:e.495.5173
SEQUENCE:3
DTSTAMP:20260424T162328Z
URL:https://members.hechamber.com/events/details/home-buying-selling-5173
END:VEVENT

END:VCALENDAR
