BEGIN:VCALENDAR
VERSION:2.0
PRODID:-//ChamberMaster//Event Calendar 2.0//EN
METHOD:PUBLISH
X-PUBLISHED-TTL:P3D
REFRESH-INTERVAL:P3D
CALSCALE:GREGORIAN
BEGIN:VEVENT
DTSTART:20200211T010000Z
DTEND:20200211T023000Z
X-MICROSOFT-CDO-ALLDAYEVENT:FALSE
SUMMARY:Home Buying & Selling
DESCRIPTION:Home Buying & Selling\n\nMonday\, February 10 2020\, 7:00pm - 8:30pm\n\nCentral Library\, Rasmussen North ((A) Classroom)\n\nSchaumburg Township District Library\n\n130 S. Roselle Rd.\, Schaumburg\n\nGet a realistic view of the current real estate market in the Northwest suburbs from the real estate experts Linda Dressler and Gene Walters. Please register online (https://www.schaumburglibrary.org/\, click EVENTS) or call our Information Services Desk at 847-923-3347.
X-ALT-DESC;FMTTYPE=text/html:<span style="font-family:arial\,sans-serif"><span style="font-size:12.0pt">Home Buying &amp\; Selling</span></span><br />\n<span style="font-family:arial\,sans-serif"><span style="font-size:12.0pt">Monday\, February 10 2020\, 7:00pm - 8:30pm</span></span><br />\n<span style="font-family:arial\,sans-serif"><span style="font-size:12.0pt">Central Library\, Rasmussen North ((A) Classroom)<br />\nSchaumburg Township District Library<br />\n130 S. Roselle Rd.\, Schaumburg</span></span><br />\n<span style="font-family:arial\,sans-serif"><span style="font-size:12.0pt">Get a realistic view of the current real estate market in the Northwest suburbs from the real estate experts Linda Dressler and Gene Walters. Please register online (<a href="https://www.schaumburglibrary.org/">https://www.schaumburglibrary.org/</a>\, click EVENTS) or call our Information Services Desk at 847-923-3347.</span></span><br />\n&nbsp\;
LOCATION:
UID:e.495.6740
SEQUENCE:3
DTSTAMP:20260422T135513Z
URL:https://members.hechamber.com/events/details/home-buying-selling-02-10-2020-6740
END:VEVENT

END:VCALENDAR
