BEGIN:VCALENDAR
VERSION:2.0
PRODID:-//ChamberMaster//Event Calendar 2.0//EN
METHOD:PUBLISH
X-PUBLISHED-TTL:P3D
REFRESH-INTERVAL:P3D
CALSCALE:GREGORIAN
BEGIN:VEVENT
DTSTART:20200916T170000Z
DTEND:20200916T190000Z
X-MICROSOFT-CDO-ALLDAYEVENT:FALSE
SUMMARY:Holiday Sneak Peak Event - Luncheon!
DESCRIPTION:Start your planning for your holiday celebrations early and have tons of FUN while doing it!\n\nAttend our Holiday Sneak Peak to receive our biggest discount this Holiday Season!\n\nSample our buffet\, and have a drink on us to bring in the Holiday Cheer!
X-ALT-DESC;FMTTYPE=text/html:<p><span style="color:#B22222\;"><strong><span style="font-size:16px\;">Start your planning for your holiday celebrations early and have tons of FUN while doing it!</span></strong></span></p>\n\n<p><span style="color:#006400\;"><strong><span style="font-size:16px\;">Attend our Holiday Sneak Peak to receive our biggest discount this Holiday Season!</span></strong></span></p>\n\n<p><span style="color:#B22222\;"><strong><span style="font-size:16px\;">Sample our buffet\, and have a drink on us to bring in the Holiday Cheer!&nbsp\;</span></strong></span></p>\n
LOCATION:2575 Pratum Ave\, Hoffman Estates\, 60192
UID:e.495.7065
SEQUENCE:3
DTSTAMP:20260422T022619Z
URL:https://members.hechamber.com/events/details/holiday-sneak-peak-events-7065
END:VEVENT

END:VCALENDAR
