BEGIN:VCALENDAR
VERSION:2.0
PRODID:-//ChamberMaster//Event Calendar 2.0//EN
METHOD:PUBLISH
X-PUBLISHED-TTL:P3D
REFRESH-INTERVAL:P3D
CALSCALE:GREGORIAN
BEGIN:VEVENT
DTSTART:20181130T230000Z
DTEND:20181201T020000Z
X-MICROSOFT-CDO-ALLDAYEVENT:FALSE
SUMMARY:Holiday Nail Party
DESCRIPTION:Schedule a nail appointment and enjoy treats from The Cocoa Exchange. Glasses of wine available for purchase the day of the event. Contact Mary for open times. Register for $5 once you have confirmed your service and time from Mary.  Remaining balance due at event.
X-ALT-DESC;FMTTYPE=text/html:Schedule a nail appointment and enjoy treats from The Cocoa Exchange. Glasses of wine available for purchase the day of the event. Contact Mary for open times. Register for $5 once you have confirmed your service and time from Mary.&nbsp\; Remaining balance due at event.
LOCATION:Xanadu Nails 1039 W Golf Rd Hoffman Estates\, IL 60169
UID:e.495.4967
SEQUENCE:3
DTSTAMP:20260424T215920Z
URL:https://members.hechamber.com/events/details/holiday-nail-party-4967
END:VEVENT

END:VCALENDAR
