BEGIN:VCALENDAR
VERSION:2.0
PRODID:-//ChamberMaster//Event Calendar 2.0//EN
METHOD:PUBLISH
X-PUBLISHED-TTL:P3D
REFRESH-INTERVAL:P3D
CALSCALE:GREGORIAN
BEGIN:VEVENT
DTSTART:20190210T200000Z
DTEND:20190210T230000Z
X-MICROSOFT-CDO-ALLDAYEVENT:FALSE
SUMMARY:Health & Wellness Fair
DESCRIPTION:Main Event Hoffman Estates is hosting a Health & Wellness Fair!\n\nThis event is sponsored by Medulla LLC / Chiro One Wellness Centers\n\n\n\nPlease join us on Sunday\, Feb 10\, 2019 from 2:00pm - 5:00pm\n\nhttps://www.facebook.com/events/850791895261164/\n\n?
X-ALT-DESC;FMTTYPE=text/html:<span style="font-size:16px\;">Main Event Hoffman Estates is hosting a Health &amp\; Wellness Fair!<br />\nThis event is sponsored by Medulla LLC / Chiro One Wellness Centers<br />\n<br />\nPlease join us on Sunday\, Feb 10\, 2019 from 2:00pm - 5:00pm<br />\n<a href="https://www.facebook.com/events/850791895261164/">https://www.facebook.com/events/850791895261164/</a><br />\n?</span>
LOCATION:Main Event Entertainment Hoffman Estates 2575 Pratum Avenue Hoffman Estates
UID:e.495.5189
SEQUENCE:3
DTSTAMP:20260424T191809Z
URL:https://members.hechamber.com/events/details/health-wellness-fair-5189
END:VEVENT

END:VCALENDAR
