BEGIN:VCALENDAR
VERSION:2.0
PRODID:-//ChamberMaster//Event Calendar 2.0//EN
METHOD:PUBLISH
X-PUBLISHED-TTL:P3D
REFRESH-INTERVAL:P3D
CALSCALE:GREGORIAN
BEGIN:VEVENT
DTSTART:20190815T210000Z
DTEND:20190816T000000Z
X-MICROSOFT-CDO-ALLDAYEVENT:FALSE
SUMMARY:Harper College Makerspace and Entrepreneur Center Open House
DESCRIPTION:Learn How to Bring Your Biggest\, Boldest and Coolest Ideas to Life. \n\n\n\nThe friendly\, collaborative\, membership-based entrepreneurial space is focused on helping you bring your ideas to life and to market. Check out the professional-level makerspace tools and equipment including 3D printers\, 3D scanners\, laser cutters\, CNC mills\, electronics and more. Enjoy refreshments and prizes.
X-ALT-DESC;FMTTYPE=text/html:<br />\n<span style="color:#2F4F4F\;"><span style="font-size:18px\;"><strong>Learn How to Bring Your Biggest\, Boldest and Coolest Ideas to Life. </strong><br />\n<br />\nThe friendly\, collaborative\, membership-based entrepreneurial space is focused on helping you bring your ideas to life and to market. Check out the professional-level makerspace tools and equipment including 3D printers\, 3D scanners\, laser cutters\, CNC mills\, electronics and more. Enjoy refreshments and prizes.</span></span>
LOCATION:Harper College Building H\, Room 130 1200 West Algonquin Rd. Palatine\, IL 60067
UID:e.495.5626
SEQUENCE:3
DTSTAMP:20260422T230305Z
URL:https://members.hechamber.com/events/details/harper-college-makerspace-and-entrepreneur-center-open-house-5626
END:VEVENT

END:VCALENDAR
