BEGIN:VCALENDAR
VERSION:2.0
PRODID:-//ChamberMaster//Event Calendar 2.0//EN
METHOD:PUBLISH
X-PUBLISHED-TTL:P3D
REFRESH-INTERVAL:P3D
CALSCALE:GREGORIAN
BEGIN:VEVENT
DTSTART:20190809T170000Z
DTEND:20190809T183000Z
X-MICROSOFT-CDO-ALLDAYEVENT:FALSE
SUMMARY:Government Relations Committee Meeting
DESCRIPTION:Government Relations Committee Meeting \n\n\n\nChaired by John Ericson Schaumburg Township \n\nDistrict Library - Hoffman Estates Branch
X-ALT-DESC;FMTTYPE=text/html:<span style="font-size:16px\;"><span style="font-family: arial\;"><span style="color: rgb(178\, 34\, 34)\;"><strong>Government Relations Committee Meeting</strong>&nbsp\;</span><br />\n<br />\n<span style="font-size:14px\;">Chaired by John Ericson Schaumburg Township&nbsp\;<br />\nDistrict Library - Hoffman Estates Branch</span></span></span>\n<div>&nbsp\;</div>\n
LOCATION:AMITA Health 1555 Barrington Rd.\, Hoffman Estates Bettendorf Pavilion Main Entrance Conference Room Includes lunch
UID:e.495.5613
SEQUENCE:3
DTSTAMP:20260423T010251Z
URL:https://members.hechamber.com/events/details/government-relations-committee-meeting-5613
END:VEVENT

END:VCALENDAR
