BEGIN:VCALENDAR
VERSION:2.0
PRODID:-//ChamberMaster//Event Calendar 2.0//EN
METHOD:PUBLISH
X-PUBLISHED-TTL:P3D
REFRESH-INTERVAL:P3D
CALSCALE:GREGORIAN
BEGIN:VEVENT
DTSTART:20200909T210000Z
DTEND:20200909T220000Z
X-MICROSOFT-CDO-ALLDAYEVENT:FALSE
SUMMARY:Golf Committee Meeting
DESCRIPTION:Golf Committee Meeting\n\nChaired by Bill Hickey and Lisa Christie
X-ALT-DESC;FMTTYPE=text/html:<div><strong><span style="color:#006400\;"><span style="font-size: 14px\;"><span style="font-family: arial\;">Golf Committee Meeting<br />\nChaired by Bill Hickey and Lisa Christie</span></span></span></strong></div>\n
LOCATION:Bridges of Poplar Creek 1400 Poplar Creek Drive Hoffman Estates (on the patio)
UID:e.495.7067
SEQUENCE:3
DTSTAMP:20260422T022602Z
URL:https://members.hechamber.com/events/details/golf-committee-meeting-7067
END:VEVENT

END:VCALENDAR
