BEGIN:VCALENDAR
VERSION:2.0
PRODID:-//ChamberMaster//Event Calendar 2.0//EN
METHOD:PUBLISH
X-PUBLISHED-TTL:P3D
REFRESH-INTERVAL:P3D
CALSCALE:GREGORIAN
BEGIN:VEVENT
DTSTART:20190819T210000Z
DTEND:20190819T220000Z
X-MICROSOFT-CDO-ALLDAYEVENT:FALSE
SUMMARY:Golf Committee Meeting
DESCRIPTION:Golf Committee Meeting\n\nChaired by Bill Hickey
X-ALT-DESC;FMTTYPE=text/html:<div><strong><span style="color:#006400\;"><span style="font-size: 14px\;"><span style="font-family: arial\;">Golf Committee Meeting<br />\nChaired by Bill Hickey</span></span></span></strong></div>\n
LOCATION:Bridges of Poplar Creek 1400 Poplar Creek Drive Hoffman Estates
UID:e.495.5627
SEQUENCE:3
DTSTAMP:20260422T230027Z
URL:https://members.hechamber.com/events/details/golf-committee-meeting-5627
END:VEVENT

END:VCALENDAR
